BEGIN:VCALENDAR
VERSION:2.0
PRODID:-//MemosHK - ECPv6.15.15//NONSGML v1.0//EN
CALSCALE:GREGORIAN
METHOD:PUBLISH
X-ORIGINAL-URL:https://memoshk.com
X-WR-CALDESC:MemosHK的活动
REFRESH-INTERVAL;VALUE=DURATION:PT1H
X-Robots-Tag:noindex
X-PUBLISHED-TTL:PT1H
BEGIN:VTIMEZONE
TZID:Asia/Hong_Kong
BEGIN:STANDARD
TZOFFSETFROM:+0800
TZOFFSETTO:+0800
TZNAME:HKT
DTSTART:20240101T000000
END:STANDARD
END:VTIMEZONE
BEGIN:VEVENT
DTSTART;TZID=Asia/Hong_Kong:20250620T080000
DTEND;TZID=Asia/Hong_Kong:20250620T170000
DTSTAMP:20260419T230208
CREATED:20250620T084953Z
LAST-MODIFIED:20250620T084953Z
UID:24884-1750406400-1750438800@memoshk.com
SUMMARY:「相簿」SC2025Summer EATOS 同人TCG周邊
DESCRIPTION:
URL:https://memoshk.com/event/e25062001/
CATEGORIES:EVENTS資訊,同人賣場
ATTACH;FMTTYPE=image/jpeg:https://memoshk.com/wp-content/uploads/2025/06/001-2-scaled.jpg
END:VEVENT
BEGIN:VEVENT
DTSTART;TZID=Asia/Hong_Kong:20250620T080000
DTEND;TZID=Asia/Hong_Kong:20250620T170000
DTSTAMP:20260419T230208
CREATED:20250620T090109Z
LAST-MODIFIED:20250620T090109Z
UID:24897-1750406400-1750438800@memoshk.com
SUMMARY:「相簿」SC2025Summer ほしいろ 同人TCG周邊
DESCRIPTION: 
URL:https://memoshk.com/event/e25062002/
ATTACH;FMTTYPE=image/jpeg:https://memoshk.com/wp-content/uploads/2025/06/002-scaled.jpg
END:VEVENT
BEGIN:VEVENT
DTSTART;TZID=Asia/Hong_Kong:20250620T080000
DTEND;TZID=Asia/Hong_Kong:20250620T170000
DTSTAMP:20260419T230208
CREATED:20250620T093208Z
LAST-MODIFIED:20250620T094101Z
UID:24912-1750406400-1750438800@memoshk.com
SUMMARY:「相簿」SC2025Summer ミッドナイトブルー 同人TCG周邊
DESCRIPTION:
URL:https://memoshk.com/event/e25062003/
ATTACH;FMTTYPE=image/jpeg:https://memoshk.com/wp-content/uploads/2025/06/005-2-scaled.jpg
END:VEVENT
BEGIN:VEVENT
DTSTART;TZID=Asia/Hong_Kong:20250620T080000
DTEND;TZID=Asia/Hong_Kong:20250620T170000
DTSTAMP:20260419T230208
CREATED:20250620T094447Z
LAST-MODIFIED:20250625T143434Z
UID:24940-1750406400-1750438800@memoshk.com
SUMMARY:「相簿」SC2025Summer Scarlet Agents 同人TCG周邊
DESCRIPTION:
URL:https://memoshk.com/event/e25062004/
CATEGORIES:EVENTS資訊,同人賣場
ATTACH;FMTTYPE=image/png:https://memoshk.com/wp-content/uploads/2025/06/GtpbnRlbcAAzzut.png
END:VEVENT
END:VCALENDAR