BEGIN:VCALENDAR
VERSION:2.0
PRODID:-//MemosHK - ECPv6.15.15//NONSGML v1.0//EN
CALSCALE:GREGORIAN
METHOD:PUBLISH
X-WR-CALNAME:MemosHK
X-ORIGINAL-URL:https://memoshk.com
X-WR-CALDESC:MemosHK的活动
REFRESH-INTERVAL;VALUE=DURATION:PT1H
X-Robots-Tag:noindex
X-PUBLISHED-TTL:PT1H
BEGIN:VTIMEZONE
TZID:Asia/Hong_Kong
BEGIN:STANDARD
TZOFFSETFROM:+0800
TZOFFSETTO:+0800
TZNAME:HKT
DTSTART:20240101T000000
END:STANDARD
END:VTIMEZONE
BEGIN:VEVENT
DTSTART;TZID=Asia/Hong_Kong:20251209T080000
DTEND;TZID=Asia/Hong_Kong:20251209T170000
DTSTAMP:20260420T123317
CREATED:20251209T070111Z
LAST-MODIFIED:20251209T070149Z
UID:26642-1765267200-1765299600@memoshk.com
SUMMARY:「相簿」C107 ハイプリエステス 同人TCG周邊
DESCRIPTION:
URL:https://memoshk.com/event/e25120901/
CATEGORIES:EVENTS資訊,同人賣場
ATTACH;FMTTYPE=image/jpeg:https://memoshk.com/wp-content/uploads/2025/12/001.jpg
END:VEVENT
BEGIN:VEVENT
DTSTART;TZID=Asia/Hong_Kong:20251209T080000
DTEND;TZID=Asia/Hong_Kong:20251209T170000
DTSTAMP:20260420T123317
CREATED:20251209T071227Z
LAST-MODIFIED:20251209T071227Z
UID:26647-1765267200-1765299600@memoshk.com
SUMMARY:「相簿」C107 ほしいろ 同人TCG周邊
DESCRIPTION:
URL:https://memoshk.com/event/e25120902/
CATEGORIES:EVENTS資訊,同人賣場
ATTACH;FMTTYPE=image/jpeg:https://memoshk.com/wp-content/uploads/2025/12/003-scaled.jpg
END:VEVENT
BEGIN:VEVENT
DTSTART;TZID=Asia/Hong_Kong:20251209T080000
DTEND;TZID=Asia/Hong_Kong:20251209T170000
DTSTAMP:20260420T123317
CREATED:20251209T072451Z
LAST-MODIFIED:20251225T095240Z
UID:26685-1765267200-1765299600@memoshk.com
SUMMARY:「相簿」C107 EATOS 同人TCG周邊
DESCRIPTION:
URL:https://memoshk.com/event/e25120903/
CATEGORIES:EVENTS資訊,同人賣場
ATTACH;FMTTYPE=image/jpeg:https://memoshk.com/wp-content/uploads/2025/12/028-2-scaled.jpg
END:VEVENT
BEGIN:VEVENT
DTSTART;TZID=Asia/Hong_Kong:20251209T080000
DTEND;TZID=Asia/Hong_Kong:20251209T170000
DTSTAMP:20260420T123317
CREATED:20251209T072633Z
LAST-MODIFIED:20251224T133855Z
UID:26713-1765267200-1765299600@memoshk.com
SUMMARY:「相簿」C107 逸遊団 同人TCG周邊
DESCRIPTION:
URL:https://memoshk.com/event/e25120904/
CATEGORIES:EVENTS資訊,同人賣場
ATTACH;FMTTYPE=image/jpeg:https://memoshk.com/wp-content/uploads/2025/12/025-1-scaled.jpg
END:VEVENT
BEGIN:VEVENT
DTSTART;TZID=Asia/Hong_Kong:20251209T080000
DTEND;TZID=Asia/Hong_Kong:20251209T170000
DTSTAMP:20260420T123317
CREATED:20251209T072910Z
LAST-MODIFIED:20251228T130345Z
UID:26720-1765267200-1765299600@memoshk.com
SUMMARY:「相簿」C107 混沌の女神様 同人TCG周邊
DESCRIPTION:
URL:https://memoshk.com/event/e25120905/
CATEGORIES:EVENTS資訊,同人賣場
ATTACH;FMTTYPE=image/jpeg:https://memoshk.com/wp-content/uploads/2025/12/051-scaled.jpg
END:VEVENT
BEGIN:VEVENT
DTSTART;TZID=Asia/Hong_Kong:20251209T080000
DTEND;TZID=Asia/Hong_Kong:20251209T170000
DTSTAMP:20260420T123317
CREATED:20251209T073054Z
LAST-MODIFIED:20251220T141336Z
UID:26726-1765267200-1765299600@memoshk.com
SUMMARY:「相簿」C107 路地裏同盟 同人TCG周邊
DESCRIPTION:
URL:https://memoshk.com/event/e25120906/
CATEGORIES:EVENTS資訊,同人賣場
ATTACH;FMTTYPE=image/jpeg:https://memoshk.com/wp-content/uploads/2025/12/017-1-scaled.jpg
END:VEVENT
END:VCALENDAR