BEGIN:VCALENDAR
VERSION:2.0
PRODID:-//MemosHK - ECPv6.15.15//NONSGML v1.0//EN
CALSCALE:GREGORIAN
METHOD:PUBLISH
X-WR-CALNAME:MemosHK
X-ORIGINAL-URL:https://memoshk.com
X-WR-CALDESC:MemosHK的活动
REFRESH-INTERVAL;VALUE=DURATION:PT1H
X-Robots-Tag:noindex
X-PUBLISHED-TTL:PT1H
BEGIN:VTIMEZONE
TZID:Asia/Hong_Kong
BEGIN:STANDARD
TZOFFSETFROM:+0800
TZOFFSETTO:+0800
TZNAME:HKT
DTSTART:20240101T000000
END:STANDARD
END:VTIMEZONE
BEGIN:VEVENT
DTSTART;TZID=Asia/Hong_Kong:20251218T080000
DTEND;TZID=Asia/Hong_Kong:20251218T170000
DTSTAMP:20260420T122507
CREATED:20251218T142410Z
LAST-MODIFIED:20251222T122938Z
UID:26964-1766044800-1766077200@memoshk.com
SUMMARY:「相簿」C107 ミッドナイトブルー 同人TCG周邊
DESCRIPTION:
URL:https://memoshk.com/event/e25120911/
CATEGORIES:EVENTS資訊,同人賣場
ATTACH;FMTTYPE=image/jpeg:https://memoshk.com/wp-content/uploads/2025/12/022-scaled.jpg
END:VEVENT
BEGIN:VEVENT
DTSTART;TZID=Asia/Hong_Kong:20251218T080000
DTEND;TZID=Asia/Hong_Kong:20251218T170000
DTSTAMP:20260420T122507
CREATED:20251218T143703Z
LAST-MODIFIED:20251221T095055Z
UID:27003-1766044800-1766077200@memoshk.com
SUMMARY:「相簿」C107 SIDEREAL 同人TCG周邊
DESCRIPTION:
URL:https://memoshk.com/event/e25120912/
CATEGORIES:EVENTS資訊,同人賣場
ATTACH;FMTTYPE=image/jpeg:https://memoshk.com/wp-content/uploads/2025/12/G8dHDcCaIAAhJto.jpg
END:VEVENT
END:VCALENDAR