BEGIN:VCALENDAR
VERSION:2.0
PRODID:-//MemosHK - ECPv6.15.15//NONSGML v1.0//EN
CALSCALE:GREGORIAN
METHOD:PUBLISH
X-WR-CALNAME:MemosHK
X-ORIGINAL-URL:https://memoshk.com
X-WR-CALDESC:MemosHK的活动
REFRESH-INTERVAL;VALUE=DURATION:PT1H
X-Robots-Tag:noindex
X-PUBLISHED-TTL:PT1H
BEGIN:VTIMEZONE
TZID:Asia/Hong_Kong
BEGIN:STANDARD
TZOFFSETFROM:+0800
TZOFFSETTO:+0800
TZNAME:HKT
DTSTART:20180101T000000
END:STANDARD
END:VTIMEZONE
BEGIN:VEVENT
DTSTART;TZID=Asia/Hong_Kong:20200612T080000
DTEND;TZID=Asia/Hong_Kong:20200612T170000
DTSTAMP:20260420T034307
CREATED:20200611T234728Z
LAST-MODIFIED:20200617T100323Z
UID:1616-1591948800-1591981200@memoshk.com
SUMMARY:「動畫資訊」「通靈王」新作TV動畫化決定
DESCRIPTION:漫畫家武井宏之老師的名作「SHAMAN KING（シャーマンキング）」公佈重新動畫化\, 預定21年4月放送. 作品曾於01年\, 漫畫尚在連載中時動畫化. 這次TV動畫化將以完全新作形式製作. \n\n相關網址： \n \n\n#SHAMANKING #シャーマンキング #週刊少年ジャンプ #通靈王 #武井宏之 #麻倉葉 #memos #memoshk2019
URL:https://memoshk.com/event/a002/
CATEGORIES:ACG資訊,動漫相關
END:VEVENT
BEGIN:VEVENT
DTSTART;TZID=Asia/Hong_Kong:20200612T080000
DTEND;TZID=Asia/Hong_Kong:20200612T170000
DTSTAMP:20260420T034307
CREATED:20200611T232758Z
LAST-MODIFIED:20200616T090431Z
UID:1583-1591948800-1591981200@memoshk.com
SUMMARY:「遊戲資訊」PlayStation5首批遊戲名單
DESCRIPTION:PlayStation官方今天發表主機PlayStation5的外形設計和基本配置\, 同時還有首批遊戲名單. \n雖然並不是全都新作\, 但也少不了有像BIOHAZARD VILLAGE這種知名作品的續作發表. \n\n・Astro’s Playroom \n \n\n・Demon’s Souls \n \n・Destruction All Stars \n \n・Gran Turismo 7 \n \n  \n・Horizon Forbidden West \n \n・Marvel’s Spider-Man Miles Morales \n \n・Ratchet & Clank: Rift Apart \n \n・Returnal \n \n・Sackboy A Big Adventure \n \n・Bugsnax \n \n\n\n・DEATHLOOP \n \n・Ghostwire: Tokyo \n \n・Godfall \n \n・Goodbye Volcano High \n \n・Grand Theft Auto V 、GTA Online \n \n・HITMAN 3 \n \n・JETT : The Far Shore \n \n・Kena: Bridge of the Spirits \n \n・Little Devil Inside \n \n・NBA 2K21 \n \n・Oddworld Soulstorm \n \n・Pragmata \n \n・Project Athia \n \n・BIOHAZARD VILLAGE \n \n・Solar Ash \n \n・Stray \n \n・Tribes of Midgard \n \n・The Pathless \n \n  \n\n相關網址： \nhttps://www.youtube.com/user/PlayStation/videos \n\n#ソニー #SONY #SIE #PS5 #プレイステーション #PS #プレイステーション5 #PlayStation5 #PlayStation #memos #memoshk2019
URL:https://memoshk.com/event/ps50001/
CATEGORIES:ACG資訊,遊戲相關
END:VEVENT
BEGIN:VEVENT
DTSTART;TZID=Asia/Hong_Kong:20200612T080000
DTEND;TZID=Asia/Hong_Kong:20200612T170000
DTSTAMP:20260420T034307
CREATED:20200611T224637Z
LAST-MODIFIED:20200616T090445Z
UID:1568-1591948800-1591981200@memoshk.com
SUMMARY:「遊戲資訊」PlayStation5公開外形設計及基本配置
DESCRIPTION:PlayStation官方channel今早以直播形式公開發表了其新世代主機PlayStation5的外形設計和基本配置\, 還有首批遊戲名單. 但確實發售日期和價格均未發表. \n如下圖所見PS5的設計以黑白為主配色\, 機身採用大量曲的設計. 本體分一般和「Digital Edition」兩種版本\, 「Digital Edition」版本並沒有讀碟功能. \n其他配件有無線控制器「DualSence」\, 能同時為兩個控制器充電的充電座「Cahrging Station」\, HD Camera\, Headset「PULSE 3D」\, 專用搖控「Media Remote」. \n \n \n \n \n \n \n \n \n \n \n\n相關網址： \n-https://www.youtube.com/watch?v=YieQJFkUozU&feature=emb_logo \n\n#ソニー #SONY #SIE #PS5 #プレイステーション #PS #プレイステーション5 #PlayStation5 #PlayStation #memos #memoshk2019
URL:https://memoshk.com/event/ps50000/
CATEGORIES:ACG資訊,遊戲相關
END:VEVENT
BEGIN:VEVENT
DTSTART;TZID=Asia/Hong_Kong:20200611T080000
DTEND;TZID=Asia/Hong_Kong:20201010T170000
DTSTAMP:20260420T034307
CREATED:20200610T182402Z
LAST-MODIFIED:20200616T090527Z
UID:1476-1591862400-1602349200@memoshk.com
SUMMARY:「動畫資訊」Pokémon美式懷舊風動畫「POKÉTOON」第1話發佈
DESCRIPTION:ポケモン官方channel上傳新作品「POKÉTOON ズルッグとミミッキュ-ポケモン KidsTV」. 該短片是一段以「ズルッグ」和「ミミッキュ」作主角製作的\, 風格像早期迪士尼卡通的懷舊風動畫. 該短片貌似在歐美地區的粉絲中受不少好評. 未知會否成為長期連載作品. \n\n \n \n \n \n\n相關網址：\nhttps://www.youtube.com/watch?v=u909_O6CqYc \n\n#Pokémon #ポケモン #寵物小精靈 #Pokemon #寶可夢 #POKÉTOON #ズルッグ #ミミッキュ #ポケモンKidsTV #memos #memoshk2019
URL:https://memoshk.com/event/a001/
CATEGORIES:ACG資訊,動漫相關
END:VEVENT
BEGIN:VEVENT
DTSTART;TZID=Asia/Hong_Kong:20200611T080000
DTEND;TZID=Asia/Hong_Kong:20200611T170000
DTSTAMP:20260420T034307
CREATED:20200610T235907Z
LAST-MODIFIED:20200616T090502Z
UID:1525-1591862400-1591894800@memoshk.com
SUMMARY:「漫畫資訊」漫畫「約定的夢幻島」開拍美劇
DESCRIPTION:「週刊少年ジャンプ」上連載\, 全世界累計發行量突破2100萬本的人氣漫畫「約束のネバーランド」宣佈將拍攝海外版劇集\, 預定於Amazon Prime Video上播放. \n該劇集會由以動畫電影「Spider-Man: Into the Spider-Verse」獲獎的Rodney Rothman擔任監督以及應該不少美劇迷都認識的Masi Oka擔任制作人. \nRodney Rothman \nMasi Oka\n \n\n相關網址：\n \n\n【?両作家よりコメント到着?】海外ドラマプロジェクト始動を受けて、出水ぽすか・白井カイウ先生から喜びのSPイラスト＆コメントが届きました！? \n海外ドラマで新たに再現される約ネバの世界にぜひご期待ください‼️#約ネバ pic.twitter.com/gnF4oE7Lz6 \n— 『約束のネバーランド』公式 (@yakuneba_staff) June 11\, 2020 \n \n\n#約束のネバーランド #約定的夢幻島 #週刊少年ジャンプ #出水ぽすか #白井カイウ #memos #memoshk2019
URL:https://memoshk.com/event/c001/
CATEGORIES:ACG資訊,動漫相關
END:VEVENT
BEGIN:VEVENT
DTSTART;TZID=Asia/Hong_Kong:20200606T080000
DTEND;TZID=Asia/Hong_Kong:20200606T170000
DTSTAMP:20260420T034307
CREATED:20200606T000036Z
LAST-MODIFIED:20200616T091201Z
UID:1123-1591430400-1591462800@memoshk.com
SUMMARY:「遊戲資訊」「Pokémon劍盾」DLC新情報「鎧の孤島」配信日決定
DESCRIPTION:Nintendo Switch用RPG「ポケットモンスター ソード・シールド」DLC第1彈「鎧の孤島」配信日6月17日決定. 同時公佈更多追加內容. \n \n \n  \n \n「第1弾 鎧の孤島」和「第2弾 冠の雪原」的追加精靈. \n \n「鎧の孤島」新要素「ウッウロボ」\, 道具合成功能 \n \n \n \n \n新的教學技能【しっとのほのお】和【グラススライダー】 \n \n可將特定精靈追加キョダイマックス可能性的料理「ダイスープ」 \n  \n「冠の雪原」追加的新四人合作模式「ダイマックスアドベンチャー」\, 一起挑戰各種巨大化精靈. \n   \n「冠の雪原」追加\, 「ガラルスタートーナメント」\, 能與同作內各種角色合作及對戰的新聯賽. \n\n\n相關連結: \nhttps://www.youtube.com/watch?v=MK0e03X9txs&feature=emb_logo \n\n#Pokémon #ポケモン #寵物小精靈 #Pokemon #寶可夢 #ポケモン剣盾 #鎧の孤島 #冠の雪原 #NS #Nintendo #memos #memoshk2019
URL:https://memoshk.com/event/00123/
CATEGORIES:ACG資訊,遊戲相關
END:VEVENT
BEGIN:VEVENT
DTSTART;TZID=Asia/Hong_Kong:20200606T050500
DTEND;TZID=Asia/Hong_Kong:20200606T050500
DTSTAMP:20260420T034307
CREATED:20200605T210509Z
LAST-MODIFIED:20200616T091226Z
UID:1110-1591419900-1591419900@memoshk.com
SUMMARY:「動畫資訊」電影「Sonic the Hedgehog」續編製作決定
DESCRIPTION:港譯「超音鼠」的Sonic電影版宣佈製作續作. 原本曾因主角Sonic的人設問題被粉絲們吐糟到需砍掉重練. 重造後得到美國首日收入5700萬美元的佳績\, 比19年的名偵探比卡超的5430萬美元更高. \n\n相關網址：\nhttps://twitter.com/fowltown/status/1266136858980872192 \n\n#ソニック #セガ #SEGA #sonic #音速小子 #超音鼠 #memos #memoshk2019
URL:https://memoshk.com/event/%e3%80%8c%e5%8b%95%e7%95%ab%e8%b3%87%e8%a8%8a%e3%80%8d%e9%9b%bb%e5%bd%b1%e3%80%8csonic-the-hedgehog%e3%80%8d%e7%ba%8c%e7%b7%a8%e8%a3%bd%e4%bd%9c%e6%b1%ba%e5%ae%9a/
CATEGORIES:ACG資訊,動漫相關
END:VEVENT
BEGIN:VEVENT
DTSTART;TZID=Asia/Hong_Kong:20200602T080000
DTEND;TZID=Asia/Hong_Kong:20200630T170000
DTSTAMP:20260420T034307
CREATED:20200605T230901Z
LAST-MODIFIED:20200616T091213Z
UID:1119-1591084800-1593536400@memoshk.com
SUMMARY:「遊戲資訊」「Pokémon HOME」送隱藏特性的御三家
DESCRIPTION:由6月2日起\, 只要在Nintendo Switch版「Pokémon HOME」和「ポケットモンスター ソード・シールド」之間進行傳送\, 就會在手機版的「Pokémon HOME」得到隱藏特性的御三家「サルノリ」\,「ヒバニー」和「メッソン」. \n \n特性分別是: \n草主: 5回合轉成場地「グラスフィールド」的「グラスメイカー」 \n火主: 將自己屬性變成使用的技能同屬的「リベロ」 \n水主: 急所傷害由1.5倍變成2.25倍的「スナイパー」 \n\n相關網址：\nhttps://www.pokemon.co.jp/ex/pokemonhome/\n \n\n#Pokémon #ポケモン #寵物小精靈 #Pokemon #寶可夢 #PokémonHOME #サルノリ #ヒバニー #メッソン #NS #Nintendo #memos #memoshk2019
URL:https://memoshk.com/event/%e3%80%8c%e9%81%8a%e6%88%b2%e8%b3%87%e8%a8%8a%e3%80%8d%e3%80%8cpokemon-home%e3%80%8d%e9%80%81%e9%9a%b1%e8%97%8f%e7%89%b9%e6%80%a7%e7%9a%84%e5%be%a1%e4%b8%89%e5%ae%b6/
CATEGORIES:ACG資訊,遊戲相關
END:VEVENT
BEGIN:VEVENT
DTSTART;TZID=Asia/Hong_Kong:20200530T080000
DTEND;TZID=Asia/Hong_Kong:20200530T170000
DTSTAMP:20260420T034307
CREATED:20200530T004350Z
LAST-MODIFIED:20200616T091235Z
UID:1100-1590825600-1590858000@memoshk.com
SUMMARY:「自稱賢者弟子的賢者」TV動畫化決定
DESCRIPTION:「賢者の弟子を名乗る賢者」宣佈TV動畫化. 原作為作者りゅうせんひろつぐ投稿在「小説家になろう」的小說\, 16年漫畫化尚連載中\, 是一部網絡遊戲世界轉生系的作品. \n\n相關網址：\nhttps://gcnovels.jp/pupil/ \n\n#賢者の弟子を名乗る賢者 #自稱賢者弟子的賢者 #りゅうせんひろつぐ #memos #memoshk2019 \n 
URL:https://memoshk.com/event/%e3%80%8c%e8%87%aa%e7%a8%b1%e8%b3%a2%e8%80%85%e5%bc%9f%e5%ad%90%e7%9a%84%e8%b3%a2%e8%80%85%e3%80%8dtv%e5%8b%95%e7%95%ab%e5%8c%96%e6%b1%ba%e5%ae%9a/
CATEGORIES:ACG資訊,動漫相關
END:VEVENT
BEGIN:VEVENT
DTSTART;TZID=Asia/Hong_Kong:20200530T080000
DTEND;TZID=Asia/Hong_Kong:20200530T170000
DTSTAMP:20260420T034307
CREATED:20200530T002046Z
LAST-MODIFIED:20200616T091247Z
UID:1533-1590825600-1590858000@memoshk.com
SUMMARY:「動畫資訊」TV動畫「關於我轉生變成史萊姆這檔事」2期 &「轉生史萊姆日記」放送延期
DESCRIPTION:再有受疫情影響而延期的動畫消息\, 今次是「転生したらスライムだった件」2期和其分支作品的「転スラ日記」\, 各預定延後3個月\, 即「転生したらスライムだった件」2期的第1部和第2部的放送日將會是明年1月和7月\, 而「転スラ日記」將改到4月放送. \n \n \n\n相關網址：\nhttps://www.ten-sura.com/news/anime/news/post/2700 \n\n#転生したらスライムだった件 #關於我轉生變成史萊姆這檔事 #転スラ日記 #転スラ #伏瀨 #コロナ #新型コロナウイルス感染症 #memos #memoshk2019
URL:https://memoshk.com/event/%e3%80%8c%e5%8b%95%e7%95%ab%e8%b3%87%e8%a8%8a%e3%80%8dtv%e5%8b%95%e7%95%ab%e3%80%8c%e9%97%9c%e6%96%bc%e6%88%91%e8%bd%89%e7%94%9f%e8%ae%8a%e6%88%90%e5%8f%b2%e8%90%8a%e5%a7%86%e9%80%99%e6%aa%94%e4%ba%8b/
CATEGORIES:ACG資訊,動漫相關
END:VEVENT
BEGIN:VEVENT
DTSTART;TZID=Asia/Hong_Kong:20200524T080000
DTEND;TZID=Asia/Hong_Kong:20200524T170000
DTSTAMP:20260420T034307
CREATED:20200524T003403Z
LAST-MODIFIED:20200616T091453Z
UID:1546-1590307200-1590339600@memoshk.com
SUMMARY:「動畫資訊」「Fate/kaleid liner 魔法少女☆伊莉雅」新作劇場版製作決定
DESCRIPTION:「Fate/kaleid liner プリズマ☆イリヤ」宣佈製作新劇場版作品. 同時公開了回顧前作形式的宣傳PV. \n\n相關網址：\nhttps://www.youtube.com/watch?v=Ea5amBL5qVo&feature=youtu.be \n\n#Fatekaleidliner #伊莉雅 #プリズマイリヤ #イリヤ #memos #memoshk2019
URL:https://memoshk.com/event/%e3%80%8c%e5%8b%95%e7%95%ab%e8%b3%87%e8%a8%8a%e3%80%8d%e3%80%8cfate-kaleid-liner-%e9%ad%94%e6%b3%95%e5%b0%91%e5%a5%b3%e2%98%86%e4%bc%8a%e8%8e%89%e9%9b%85%e3%80%8d%e6%96%b0%e4%bd%9c%e5%8a%87%e5%a0%b4/
CATEGORIES:ACG資訊,動漫相關
END:VEVENT
BEGIN:VEVENT
DTSTART;TZID=Asia/Hong_Kong:20200520T080000
DTEND;TZID=Asia/Hong_Kong:20200520T170000
DTSTAMP:20260420T034307
CREATED:20200520T004356Z
LAST-MODIFIED:20200616T091502Z
UID:1557-1589961600-1589994000@memoshk.com
SUMMARY:「動畫資訊」「呪術廻戦」TV動畫PV發佈
DESCRIPTION:預定10月深夜檔放送\, TV動畫版「呪術廻戦」發佈第一彈PV. 動畫是由一直評價良好的MAPPA公司製作. \n\nSTAFF\n原作：芥見下々\n監督：朴性厚\n劇本：瀬古浩司\n人設：平松禎史\n音樂：堤博明・照井順政・桶狭間ありさ\n制作：MAPPA \n\nCAST\n虎杖悠仁：榎木淳弥\n伏黒 恵：内田雄馬\n釘崎野薔薇：瀬戸麻沙美\n五条 悟：中村悠一\n両面宿儺：諏訪部順一 \n\n相關網址：\nhttps://www.youtube.com/watch?v=RIyb52EMx8c&feature=emb_logo \n\n#呪術廻戦 #咒術迴戰 #芥見下々 #週刊少年ジャンプ #memos #memoshk2019
URL:https://memoshk.com/event/%e3%80%8c%e5%8b%95%e7%95%ab%e8%b3%87%e8%a8%8a%e3%80%8d%e3%80%8c%e5%91%aa%e8%a1%93%e5%bb%bb%e6%88%a6%e3%80%8dtv%e5%8b%95%e7%95%abpv%e7%99%bc%e4%bd%88/
CATEGORIES:ACG資訊,動漫相關
END:VEVENT
BEGIN:VEVENT
DTSTART;TZID=Asia/Hong_Kong:20200520T080000
DTEND;TZID=Asia/Hong_Kong:20200520T170000
DTSTAMP:20260420T034307
CREATED:20200520T003603Z
LAST-MODIFIED:20200616T091511Z
UID:1549-1589961600-1589994000@memoshk.com
SUMMARY:「網絡熱話」又一套作品完结撒花\, 「HUNTER×HUNTER」再成網民討論話題
DESCRIPTION:「鬼滅の刃」漫畫完結\, 日本人氣畫師いまむー老師送上新作. 近年少年JUMP的長編人氣作品一套接一套迎來結局\, 而「HUNTERxHUNTER」的冨樫老師依然保持自己的步速在畫. \n \n \n \n \n\n分享一點有趣資料\, 根據網民統計:\n●「鬼滅の刃」開始連載時古勒比加 (クラピカ)剛上船出發暗黑大陸\, 「鬼滅の刃」完結時古勒比加還在船上.\n●「暗殺教室」開始連載時HUNTER剛發售單行本第32卷\, 「暗殺教室」連載完結時剛要發售第33卷.\n●「NARUTO」 「BLEACH」 「銀魂」 都是在HUNTER之後開始連載的\, 均連載超過15年\, 最終單行本分別是72卷\, 74卷和77卷. 而HUNTER現在36卷休刊中 \n\n相關網址：\nhttps://twitter.com/tomoyanandayo/status/1262761793602023426 \n\n#週刊少年ジャンプ #HUNTERxHUNTER #鬼滅の刃 #暗殺教室 #ナルト #NARUTO #BLEACH #銀魂 #冨樫義博 #いまむー #memos #memoshk2019
URL:https://memoshk.com/event/%e3%80%8c%e7%b6%b2%e7%b5%a1%e7%86%b1%e8%a9%b1%e3%80%8d%e5%8f%88%e4%b8%80%e5%a5%97%e4%bd%9c%e5%93%81%e5%ae%8c%e7%bb%93%e6%92%92%e8%8a%b1-%e3%80%8chunterxhunter%e3%80%8d%e5%86%8d%e6%88%90%e7%b6%b2/
CATEGORIES:ACG資訊,動漫相關,同人相關
END:VEVENT
BEGIN:VEVENT
DTSTART;TZID=Asia/Hong_Kong:20200102T080000
DTEND;TZID=Asia/Hong_Kong:20200102T170000
DTSTAMP:20260420T034307
CREATED:20200219T023859Z
LAST-MODIFIED:20200616T091520Z
UID:827-1577952000-1577984400@memoshk.com
SUMMARY:聲優・山下七海的街訪節目、首次活動決定！上田麗奈・奥野香耶亦會作為嘉賓參加
DESCRIPTION:聲優綜藝節目「ボイスガレッジチャンネル」每月2集的節目播放中（毎月的第2・第4個星期的星期一23時開始）的山下七海的街訪節目「山下七海のココどこ？？？」。這節目的首次活動『「山下七海のココどこ？？？」Conference1～ココ茅場町～』、將在2020年3月15日（日）舉行。今次活動邀請到上田麗奈・奥野香耶作嘉賓參與。 \n \n「山下七海のココどこ？？？」由聲優・山下七海去不同的地方，在街上體驗不同的事，能增廣見聞的街訪節目。\n邀請不同的嘉賓，將目前原來不知道的最新情報帶給大家。節目基本免費、以會員制播放。而節目的首次活動由12月25日開始進行先行抽選，申請方法可到ボイスガレッジチャンネル的首頁申請。
URL:https://memoshk.com/event/%e8%81%b2%e5%84%aa%e3%83%bb%e5%b1%b1%e4%b8%8b%e4%b8%83%e6%b5%b7%e7%9a%84%e8%a1%97%e8%a8%aa%e7%af%80%e7%9b%ae%e3%80%81%e9%a6%96%e6%ac%a1%e6%b4%bb%e5%8b%95%e6%b1%ba%e5%ae%9a%ef%bc%81%e4%b8%8a%e7%94%b0/
CATEGORIES:ACG資訊,聲優相關
END:VEVENT
BEGIN:VEVENT
DTSTART;TZID=Asia/Hong_Kong:20200102T080000
DTEND;TZID=Asia/Hong_Kong:20200102T170000
DTSTAMP:20260420T034307
CREATED:20200219T012513Z
LAST-MODIFIED:20200616T091751Z
UID:716-1577952000-1577984400@memoshk.com
SUMMARY:「衛宮さんちの今日のごはん」(衛宮家今天的餐桌風景)遊戲化！Switch版2020年春天發售
DESCRIPTION:TAa老師的作品繼「衛宮さんちの今日のごはん」動畫化後，現在決定遊戲化。Nintendo Switch版「毎日♪ 衛宮さんちの今日のごはん」即將在2020年春天發售。 \n \n「衛宮さんちの今日のごはん」在KADOKAWA（角川）的Webマンガサイト・ヤングエースUP上連載、以「Fate」系列為題材的美食漫畫。遊戲「毎日♪ 衛宮さんちの今日のごはん」是與角色們一齊煮飯的日常風遊戲。就跟COOKING MAMA的遊戲玩法差不多吧，但感覺好吃點。原作及動畫登場的食譜外，遊戲中還會收錄更多新菜譜及新故事。
URL:https://memoshk.com/event/%e3%80%8c%e8%a1%9b%e5%ae%ae%e3%81%95%e3%82%93%e3%81%a1%e3%81%ae%e4%bb%8a%e6%97%a5%e3%81%ae%e3%81%94%e3%81%af%e3%82%93%e3%80%8d%e8%a1%9b%e5%ae%ae%e5%ae%b6%e4%bb%8a%e5%a4%a9%e7%9a%84%e9%a4%90%e6%a1%8c/
CATEGORIES:ACG資訊,遊戲相關
END:VEVENT
BEGIN:VEVENT
DTSTART;TZID=Asia/Hong_Kong:20191231T080000
DTEND;TZID=Asia/Hong_Kong:20191231T170000
DTSTAMP:20260420T034307
CREATED:20200219T014113Z
LAST-MODIFIED:20200616T091724Z
UID:734-1577779200-1577811600@memoshk.com
SUMMARY:尼子騒兵衛「落第忍者乱太郎」（忍者亂太郎）的大特集在本日12月31的朝日小學生新聞刊登
DESCRIPTION:本日12月31日在朝日小学生新聞中，刊登了尼子騒兵衛「落第忍者乱太郎」的特集。 \n \n「落第忍者乱太郎」的故事是說目標成為一流的忍者的一班初出茅廬的忍者的歡樂喜劇。由1986年開始在同一份報刊連載、在12月28日刊登的傑作選亦完結了。有關今次的特集，公開了11月發售的漫畫最終回的封面制作及有關於首批的編輯及動畫的相關人士的訪問。另外在12月25日的朝日小學生新聞中刊登了尼子老師的訪問、在報刊的的網頁中可看到。 \n \n \n另外尼子老師將就「今昔物語」「宇治拾遺物語」這2部古典作品準備最新連載。由2020年4月開始每月1集的連載預定。
URL:https://memoshk.com/event/%e5%b0%bc%e5%ad%90%e9%a8%92%e5%85%b5%e8%a1%9b%e3%80%8c%e8%90%bd%e7%ac%ac%e5%bf%8d%e8%80%85%e4%b9%b1%e5%a4%aa%e9%83%8e%e3%80%8d%ef%bc%88%e5%bf%8d%e8%80%85%e4%ba%82%e5%a4%aa%e9%83%8e%ef%bc%89%e7%9a%84/
CATEGORIES:ACG資訊,動漫相關
END:VEVENT
BEGIN:VEVENT
DTSTART;TZID=Asia/Hong_Kong:20191230T080000
DTEND;TZID=Asia/Hong_Kong:20191230T170000
DTSTAMP:20260420T034307
CREATED:20200219T014555Z
LAST-MODIFIED:20200616T091714Z
UID:739-1577692800-1577725200@memoshk.com
SUMMARY:「A3!」咲也和天馬的重點視覺圖公開
DESCRIPTION:TV動畫「『A3!』SEASON SPRING ＆ SUMMER」的重點視覺圖公開。 \n \n2020年1月13日將在TOKYO MX及其他電視台正式放送開始，名為「『A3!』SEASON SPRING ＆ SUMMER」。在視覺圖中可看到聚光燈照射着春組的領隊佐久間咲也，及夏組領隊的皇天馬2人。 \n \n這張廣告海報、可從今日12月30日開始在東京・東京メトロ新宿站的Metro Promenade的巨型廣告區域展出。而由1月6日開始將預定在札幌・名古屋・大阪・福岡的不同地方進行廣告宣傳。另外在1月7日將在東京都内有此作的特製貨車在行走宣傳。 \n \n還不止、2月5日將發售OP主題曲CD「Act! Addict! Actors!」的封面亦公開了。同様也以咲也和天馬作封面、期間限定還可得到“『A3!』特別有帽外套”。還有、TV動畫的Blu-ray / DVD亦將在3月4日發售。特典外套由角色原案・冨士原良設計、另外還有很多特典附送預定。播送開始的1月13日、東京・ANIMATE池袋本店將舉辦、MANKAI公司的吉祥物亀吉來與各位見面，及舞台劇「ロミオの学園天国」的見面會。詳細可在官網確認。
URL:https://memoshk.com/event/%e3%80%8ca3%e3%80%8d%e5%92%b2%e4%b9%9f%e5%92%8c%e5%a4%a9%e9%a6%ac%e7%9a%84%e9%87%8d%e9%bb%9e%e8%a6%96%e8%a6%ba%e5%9c%96%e5%85%ac%e9%96%8b/
CATEGORIES:ACG資訊,動漫相關
END:VEVENT
BEGIN:VEVENT
DTSTART;TZID=Asia/Hong_Kong:20191229T080000
DTEND;TZID=Asia/Hong_Kong:20191229T170000
DTSTAMP:20260420T034307
CREATED:20200219T020930Z
LAST-MODIFIED:20200616T091633Z
UID:779-1577606400-1577638800@memoshk.com
SUMMARY:谷口悟朗×中島かずき最新合作TV動畫「バック・アロウ」（Back Arrow）制作決定！梶裕貴出演
DESCRIPTION:谷口悟朗（著名動畫：Code Geass 反叛的魯路修）擔任監督、中島かずき（著名動畫：天元突破 紅蓮螺巖）擔任系列構成及全集數的劇本的原創TV動畫「バック・アロウ」制作。 \n \n計劃開始的影片中公開了一位青年在遙望著感覺比天更高的牆壁。\n這亦在TV動畫「Fate/Grand Order -絶対魔獣戦線バビロニア-」的12月28日放送後在電視CM首播放。CM的介紹由已經決定出演「バック・アロウ」的梶裕貴擔任
URL:https://memoshk.com/event/%e8%b0%b7%e5%8f%a3%e6%82%9f%e6%9c%97x%e4%b8%ad%e5%b3%b6%e3%81%8b%e3%81%9a%e3%81%8d%e6%9c%80%e6%96%b0%e5%90%88%e4%bd%9ctv%e5%8b%95%e7%95%ab%e3%80%8c%e3%83%90%e3%83%83%e3%82%af%e3%83%bb%e3%82%a2/
CATEGORIES:ACG資訊,動漫相關
END:VEVENT
BEGIN:VEVENT
DTSTART;TZID=Asia/Hong_Kong:20191229T080000
DTEND;TZID=Asia/Hong_Kong:20191229T170000
DTSTAMP:20260420T034307
CREATED:20200219T015838Z
LAST-MODIFIED:20200616T091654Z
UID:759-1577606400-1577638800@memoshk.com
SUMMARY:動畫「FGO」2nd的重點視覺圖&PV公開、新ED由milet演唱
DESCRIPTION:TV動畫「Fate/Grand Order -絶対魔獣戦線バビロニア-」（Fate/Grand Order-絕對魔獸戰線巴比倫尼亞-）2nd的重點視覺圖和PV公開。 \n \n在重點視覺圖中有寫着「“人類は滅びる。”その運命に抗え。」及藤丸立香、瑪修·基利艾拉特等的角色。PV的2nd的尾曲決定由milet演唱，「Prover」作為BGM使用。 \n \n \n \n \n \n「Fate/Grand Order -絶対魔獣戦線バビロニア-」是連續2季新番的全21話。「Episode 12」「王の死」會在2020年1月4日播送。「王の死」の先行畫面亦公開了。
URL:https://memoshk.com/event/%e5%8b%95%e7%95%ab%e3%80%8cfgo%e3%80%8d2nd%e7%9a%84%e9%87%8d%e9%bb%9e%e8%a6%96%e8%a6%ba%e5%9c%96pv%e5%85%ac%e9%96%8b%e3%80%81%e6%96%b0ed%e7%94%b1milet%e6%bc%94%e5%94%b1/
CATEGORIES:ACG資訊,動漫相關
END:VEVENT
BEGIN:VEVENT
DTSTART;TZID=Asia/Hong_Kong:20191229T080000
DTEND;TZID=Asia/Hong_Kong:20191229T170000
DTSTAMP:20260420T034307
CREATED:20200219T015319Z
LAST-MODIFIED:20200616T091703Z
UID:748-1577606400-1577638800@memoshk.com
SUMMARY:『アイマス』(THE IDOLM@STER)（偶像大師）家庭用最新作發表、詳細將在2020年1月20日的生放送內公開。765Pro. ALLSTAR獨立LIVE亦開催決定！
DESCRIPTION:2019年12月26日20時開始播放的節目“アイドルマスター年末特別ニコ生番組「ゆくM@S くるM@S 2019」”、發表了『アイドルマスター』系列的最新作將開發在家庭用遊戲機。詳細會在2020年1月20日20時開始的生放送公開，各位製作人不要錯過喔。 \n \n節目中、『アイドルマスター』系列15周年記念計劃亦公開了。 \nアイドルマスター家庭用最新作制作発表会 \n—系列15周年記念重點視覺圖第2彈公開—\n由先前身穿排練服的偶像們的第1彈『アイドルマスター』系列15周年的重點視覺圖、現在公開了第2彈的由5家的偶像們排成圓形陣組成的重點視覺圖 \n \n—系列15周年記念曲— \n \n系列發表了15周年記念樂曲『なんどでも笑おう』。作詞由モモキエイジ氏、作曲由BNSI（佐藤貴文氏）、編曲由BNSI（トリ音氏）擔任。 \n \n—5家的“プロデューサーミーティングツアー”（PRODUCER MEETING TOUR）開催決定— \n \n『アイドルマスター』系列中的5家一起的“プロデューサーミーティング”巡回開催決定。詳細將會日後發表。 \n—富士急ハイランド（富士急HIGHLAND）合作活動決定！— \n \n山梨縣的遊樂場“富士急ハイランド”的合作活動決定！ 活動將預定在2020年春舉行。 \n \n \n還未完、CD『 THE IDOLM@STER MASTER ARTIST Series』第4弾制作、765Pro. ALLSTAR獨立演唱會開催決定（舉辦日子及出演者將在日後公開）。詳細可在『アイドルマスター』系列的公式BLOG中可瀏覽！
URL:https://memoshk.com/event/%e3%80%8e%e3%82%a2%e3%82%a4%e3%83%9e%e3%82%b9%e3%80%8fthe-idolmster%ef%bc%88%e5%81%b6%e5%83%8f%e5%a4%a7%e5%b8%ab%ef%bc%89%e5%ae%b6%e5%ba%ad%e7%94%a8%e6%9c%80%e6%96%b0%e4%bd%9c%e7%99%bc%e8%a1%a8/
CATEGORIES:ACG資訊,遊戲相關
END:VEVENT
BEGIN:VEVENT
DTSTART;TZID=Asia/Hong_Kong:20191229T080000
DTEND;TZID=Asia/Hong_Kong:20191229T170000
DTSTAMP:20260420T034307
CREATED:20200219T013744Z
LAST-MODIFIED:20200616T091733Z
UID:728-1577606400-1577638800@memoshk.com
SUMMARY:「メイドインアビス」（來自深淵）劇場版總集編2作在日本電視播放、及新作的劇場版的聲優見面會。
DESCRIPTION:つくしあきひと老師的原作動畫化「劇場版總集編【前編】メイドインアビス 旅立ちの夜明け」と「劇場版總集編【後編】メイドインアビス 放浪する黄昏」將在TOKYO MX、BS11電視台等播放。 \n \n \n \n2019年1月公開的2部劇場版、是以2017年播放的TV動畫「メイドインアビス」全13話、5.1ch環繞及在故事加入新元素再編成的總編集。TOKYO MX、BS11將在1月5日19時播放前編、而12日19時播放後編。而AT-X也會預定在1月2日播放前編、1月3日播放後編。 \n \n另外1月17日亦舉辦最新劇場版「メイドインアビス 深き魂の黎明」的聲優見面會，1月18日會在東京・EJアニメシアター新宿、グランドシネマサンシャイン、19日在神奈川・川崎チネチッタ、TOHOシネマズ川崎、横浜ブルク13舉行。1月9日11時前、需要購買先行抽選的門票可在チケットぴあ購買，現正申請中。
URL:https://memoshk.com/event/%e3%80%8c%e3%83%a1%e3%82%a4%e3%83%89%e3%82%a4%e3%83%b3%e3%82%a2%e3%83%93%e3%82%b9%e3%80%8d%ef%bc%88%e4%be%86%e8%87%aa%e6%b7%b1%e6%b7%b5%ef%bc%89%e5%8a%87%e5%a0%b4%e7%89%88%e7%b8%bd%e9%9b%86%e7%b7%a82/
CATEGORIES:ACG資訊,聲優相關
END:VEVENT
BEGIN:VEVENT
DTSTART;TZID=Asia/Hong_Kong:20191228T080000
DTEND;TZID=Asia/Hong_Kong:20191228T170000
DTSTAMP:20260420T034307
CREATED:20200219T021944Z
LAST-MODIFIED:20200616T091616Z
UID:790-1577520000-1577552400@memoshk.com
SUMMARY:動畫「炎炎消防隊」續篇“弐ノ章”將於明年夏季放送！謎之角色亦出現了
DESCRIPTION:大久保篤老師的原作漫畫其TV動畫化續篇「炎炎ノ消防隊」“弐ノ章”、已決定在2020年夏季放送。同時亦公開了動畫視角的設計圖。 \n \n本日放送的第一章最後一集動畫「炎炎ノ消防隊」。在公開的視角圖中，在“亞多拉空間”中站着的主角・森羅和其弟弟・象、還有作為傳導者的蒿梅雅、更有2位謎一般的角色在內。 \n \n \n除此之外，YouTube Channel・ボンボンTV中\n到2020年1月31日前也能免費看到TV動畫第1話～21話。
URL:https://memoshk.com/event/%e5%8b%95%e7%95%ab%e3%80%8c%e7%82%8e%e7%82%8e%e6%b6%88%e9%98%b2%e9%9a%8a%e3%80%8d%e7%ba%8c%e7%af%87%e5%bc%90%e3%83%8e%e7%ab%a0%e5%b0%87%e6%96%bc%e6%98%8e%e5%b9%b4%e5%a4%8f%e5%ad%a3/
CATEGORIES:ACG資訊,動漫相關
END:VEVENT
BEGIN:VEVENT
DTSTART;TZID=Asia/Hong_Kong:20191228T080000
DTEND;TZID=Asia/Hong_Kong:20191228T170000
DTSTAMP:20260420T034307
CREATED:20200219T021313Z
LAST-MODIFIED:20200616T091625Z
UID:783-1577520000-1577552400@memoshk.com
SUMMARY:「碧藍幻想」Season 2 姬妲篇將在3月27日放送！新視覺圖公開
DESCRIPTION:TV動畫「GRANBLUE FANTASY The Animation Season 2」的新作動畫「ジータ篇：Extra1『もう一つの旅路』」中、2020年3月27日放送決定。 \n \nTOKYO MX的最後一集「GRANBLUE FANTASY The Animation Season 2」。TOKYO MX、とちぎテレビ、群馬テレビ、BS11及其他的電視台亦會放送「ジータ篇」的、姬妲由金元寿子、瑟塔由花澤香菜、貝雅朵麗克絲由平野綾配音。今次的發表亦公開了最新的視覺圖，大家可以看到拿着武器的姬妲、瑟塔和貝雅朵麗克絲3人。
URL:https://memoshk.com/event/%e3%80%8c%e7%a2%a7%e8%97%8d%e5%b9%bb%e6%83%b3%e3%80%8dseason-2-%e5%a7%ac%e5%a6%b2%e7%af%87%e5%b0%87%e5%9c%a83%e6%9c%8827%e6%97%a5%e6%94%be%e9%80%81%ef%bc%81%e6%96%b0%e8%a6%96%e8%a6%ba%e5%9c%96/
CATEGORIES:ACG資訊,動漫相關
END:VEVENT
BEGIN:VEVENT
DTSTART;TZID=Asia/Hong_Kong:20191227T080000
DTEND;TZID=Asia/Hong_Kong:20191227T170000
DTSTAMP:20260420T034307
CREATED:20200219T022242Z
LAST-MODIFIED:20200616T091606Z
UID:795-1577433600-1577466000@memoshk.com
SUMMARY:CLAMP 30周年特設網頁開幕！「百變小櫻」最新話を先行配信
DESCRIPTION:CLAMP 30周年特設網頁「CLAMP FANS」在12月26日11時開幕。「百變小櫻 透明牌編」的最新話將會在なかよし2020年2月号（講談社）先行發售、及有6種語言配套。 \n \n \n今年迎接30周年的CLAMP畫師團隊在1989年サウス（新書館）商業誌作品「聖伝 -RG VEDA-」出道。「百變小櫻 透明牌編」的最新一話、為了日本的FANS及全世界的FANS能更容易閱讀，會在YOUTUBE提供日文、英文、中文（簡体字）、法文、西班牙文、葡萄牙文、今後預定亦會增加不同的語言翻譯。還有由於是在雜誌發售日前在YOUTUBE配信，講談社針對於盜版的行為，同作亦會在之後每月的なかよし發售前2日先行公開。\n特設網站「CLAMP FANS」可以從YouTube配信閱覽及購買最新話的電子版。 還有售賣CLAMP作品的精品，「ケロちゃんの写真日記」等的作品亦會預定增加。及現在還有慶祝30周年記念的LINE貼圖2種類讓各FANS購買。
URL:https://memoshk.com/event/clamp-30%e5%91%a8%e5%b9%b4%e7%89%b9%e8%a8%ad%e7%b6%b2%e9%a0%81%e9%96%8b%e5%b9%95%ef%bc%81%e3%80%8c%e7%99%be%e8%ae%8a%e5%b0%8f%e6%ab%bb%e3%80%8d%e6%9c%80%e6%96%b0%e8%a9%b1%e3%82%92%e5%85%88%e8%a1%8c/
CATEGORIES:ACG資訊,動漫相關
END:VEVENT
END:VCALENDAR