BEGIN:VCALENDAR
VERSION:2.0
PRODID:-//MemosHK - ECPv6.15.15//NONSGML v1.0//EN
CALSCALE:GREGORIAN
METHOD:PUBLISH
X-ORIGINAL-URL:https://memoshk.com
X-WR-CALDESC:MemosHK的活动
REFRESH-INTERVAL;VALUE=DURATION:PT1H
X-Robots-Tag:noindex
X-PUBLISHED-TTL:PT1H
BEGIN:VTIMEZONE
TZID:Asia/Hong_Kong
BEGIN:STANDARD
TZOFFSETFROM:+0800
TZOFFSETTO:+0800
TZNAME:HKT
DTSTART:20240101T000000
END:STANDARD
END:VTIMEZONE
BEGIN:VEVENT
DTSTART;TZID=Asia/Hong_Kong:20251215T080000
DTEND;TZID=Asia/Hong_Kong:20251215T170000
DTSTAMP:20260420T150229
CREATED:20251215T082848Z
LAST-MODIFIED:20251224T082435Z
UID:26806-1765785600-1765818000@memoshk.com
SUMMARY:「相簿」C107 ぱる家 同人TCG周邊
DESCRIPTION:
URL:https://memoshk.com/event/e25120907/
CATEGORIES:EVENTS資訊,同人賣場
ATTACH;FMTTYPE=image/jpeg:https://memoshk.com/wp-content/uploads/2025/12/018-2.jpg
END:VEVENT
BEGIN:VEVENT
DTSTART;TZID=Asia/Hong_Kong:20251215T080000
DTEND;TZID=Asia/Hong_Kong:20251215T170000
DTSTAMP:20260420T150229
CREATED:20251215T083613Z
LAST-MODIFIED:20251227T050936Z
UID:26822-1765785600-1765818000@memoshk.com
SUMMARY:「相簿」C107 Scarlet Agents 同人TCG周邊
DESCRIPTION: 
URL:https://memoshk.com/event/e25120908/
CATEGORIES:EVENTS資訊,同人賣場
ATTACH;FMTTYPE=image/jpeg:https://memoshk.com/wp-content/uploads/2025/12/035-1.jpg
END:VEVENT
BEGIN:VEVENT
DTSTART;TZID=Asia/Hong_Kong:20251215T080000
DTEND;TZID=Asia/Hong_Kong:20251215T170000
DTSTAMP:20260420T150229
CREATED:20251215T130134Z
LAST-MODIFIED:20251228T072249Z
UID:26829-1765785600-1765818000@memoshk.com
SUMMARY:「相簿」C107 同人TCG周邊
DESCRIPTION:
URL:https://memoshk.com/event/e25120909/
CATEGORIES:EVENTS資訊,同人賣場
ATTACH;FMTTYPE=image/jpeg:https://memoshk.com/wp-content/uploads/2025/12/009.jpg
END:VEVENT
BEGIN:VEVENT
DTSTART;TZID=Asia/Hong_Kong:20251217T080000
DTEND;TZID=Asia/Hong_Kong:20251217T170000
DTSTAMP:20260420T150229
CREATED:20251216T174454Z
LAST-MODIFIED:20251226T093122Z
UID:26930-1765958400-1765990800@memoshk.com
SUMMARY:「相簿」C107 ロンディニウム 同人TCG周邊
DESCRIPTION:
URL:https://memoshk.com/event/e25120910/
CATEGORIES:EVENTS資訊,同人賣場
ATTACH;FMTTYPE=image/jpeg:https://memoshk.com/wp-content/uploads/2025/12/030.jpg
END:VEVENT
BEGIN:VEVENT
DTSTART;TZID=Asia/Hong_Kong:20251218T080000
DTEND;TZID=Asia/Hong_Kong:20251218T170000
DTSTAMP:20260420T150229
CREATED:20251218T142410Z
LAST-MODIFIED:20251222T122938Z
UID:26964-1766044800-1766077200@memoshk.com
SUMMARY:「相簿」C107 ミッドナイトブルー 同人TCG周邊
DESCRIPTION:
URL:https://memoshk.com/event/e25120911/
CATEGORIES:EVENTS資訊,同人賣場
ATTACH;FMTTYPE=image/jpeg:https://memoshk.com/wp-content/uploads/2025/12/022-scaled.jpg
END:VEVENT
BEGIN:VEVENT
DTSTART;TZID=Asia/Hong_Kong:20251218T080000
DTEND;TZID=Asia/Hong_Kong:20251218T170000
DTSTAMP:20260420T150229
CREATED:20251218T143703Z
LAST-MODIFIED:20251221T095055Z
UID:27003-1766044800-1766077200@memoshk.com
SUMMARY:「相簿」C107 SIDEREAL 同人TCG周邊
DESCRIPTION:
URL:https://memoshk.com/event/e25120912/
CATEGORIES:EVENTS資訊,同人賣場
ATTACH;FMTTYPE=image/jpeg:https://memoshk.com/wp-content/uploads/2025/12/G8dHDcCaIAAhJto.jpg
END:VEVENT
BEGIN:VEVENT
DTSTART;TZID=Asia/Hong_Kong:20251219T080000
DTEND;TZID=Asia/Hong_Kong:20251219T170000
DTSTAMP:20260420T150229
CREATED:20251219T130427Z
LAST-MODIFIED:20251219T130427Z
UID:27030-1766131200-1766163600@memoshk.com
SUMMARY:「相簿」C107 未確認スリーブ 同人TCG周邊
DESCRIPTION:
URL:https://memoshk.com/event/e25120913/
CATEGORIES:EVENTS資訊,同人賣場
ATTACH;FMTTYPE=image/png:https://memoshk.com/wp-content/uploads/2025/12/014.png
END:VEVENT
BEGIN:VEVENT
DTSTART;TZID=Asia/Hong_Kong:20251220T080000
DTEND;TZID=Asia/Hong_Kong:20251220T170000
DTSTAMP:20260420T150229
CREATED:20251219T182106Z
LAST-MODIFIED:20251220T131941Z
UID:27068-1766217600-1766250000@memoshk.com
SUMMARY:「相簿」C107 アクアアルタ 同人TCG周邊
DESCRIPTION:
URL:https://memoshk.com/event/e25120914/
CATEGORIES:EVENTS資訊,同人賣場
ATTACH;FMTTYPE=image/jpeg:https://memoshk.com/wp-content/uploads/2025/12/016-scaled.jpg
END:VEVENT
BEGIN:VEVENT
DTSTART;TZID=Asia/Hong_Kong:20251220T080000
DTEND;TZID=Asia/Hong_Kong:20251220T170000
DTSTAMP:20260420T150229
CREATED:20251220T134910Z
LAST-MODIFIED:20251228T091335Z
UID:27100-1766217600-1766250000@memoshk.com
SUMMARY:「相簿」C107 クラスター＆フレシア 同人TCG周邊
DESCRIPTION:
URL:https://memoshk.com/event/e25120915/
CATEGORIES:EVENTS資訊,同人賣場
ATTACH;FMTTYPE=image/jpeg:https://memoshk.com/wp-content/uploads/2025/12/048.jpg
END:VEVENT
BEGIN:VEVENT
DTSTART;TZID=Asia/Hong_Kong:20251221T080000
DTEND;TZID=Asia/Hong_Kong:20251221T170000
DTSTAMP:20260420T150229
CREATED:20251221T090839Z
LAST-MODIFIED:20251226T143559Z
UID:27129-1766304000-1766336400@memoshk.com
SUMMARY:「相簿」C107 サンパン＆Cake Rabbits 同人TCG周邊
DESCRIPTION:
URL:https://memoshk.com/event/e25120916/
CATEGORIES:EVENTS資訊,同人賣場
ATTACH;FMTTYPE=image/jpeg:https://memoshk.com/wp-content/uploads/2025/12/034-1-scaled.jpg
END:VEVENT
BEGIN:VEVENT
DTSTART;TZID=Asia/Hong_Kong:20251221T080000
DTEND;TZID=Asia/Hong_Kong:20251221T170000
DTSTAMP:20260420T150229
CREATED:20251221T091055Z
LAST-MODIFIED:20251226T131246Z
UID:27139-1766304000-1766336400@memoshk.com
SUMMARY:「相簿」C107 白詰草 同人TCG周邊
DESCRIPTION:
URL:https://memoshk.com/event/e25120917/
CATEGORIES:EVENTS資訊,同人賣場
ATTACH;FMTTYPE=image/jpeg:https://memoshk.com/wp-content/uploads/2025/12/031-1-scaled.jpg
END:VEVENT
BEGIN:VEVENT
DTSTART;TZID=Asia/Hong_Kong:20251221T080000
DTEND;TZID=Asia/Hong_Kong:20251221T170000
DTSTAMP:20260420T150229
CREATED:20251221T091319Z
LAST-MODIFIED:20251225T185123Z
UID:27149-1766304000-1766336400@memoshk.com
SUMMARY:「相簿」C107 ぴらるーく 同人TCG周邊
DESCRIPTION:
URL:https://memoshk.com/event/e25120918/
CATEGORIES:EVENTS資訊,同人賣場,週邊商品
ATTACH;FMTTYPE=image/jpeg:https://memoshk.com/wp-content/uploads/2025/12/G8nInqhbgAEIkef.jpg
END:VEVENT
BEGIN:VEVENT
DTSTART;TZID=Asia/Hong_Kong:20260311T080000
DTEND;TZID=Asia/Hong_Kong:20260311T170000
DTSTAMP:20260420T150229
CREATED:20260311T044408Z
LAST-MODIFIED:20260312T134325Z
UID:27801-1773216000-1773248400@memoshk.com
SUMMARY:「相簿」混沌の女神様 同人TCG周邊
DESCRIPTION:
URL:https://memoshk.com/event/e260311/
CATEGORIES:EVENTS資訊,同人賣場
ATTACH;FMTTYPE=image/jpeg:https://memoshk.com/wp-content/uploads/2026/03/tcg__playmat__032026_1773322922_58a280e5_progressive.jpg
END:VEVENT
BEGIN:VEVENT
DTSTART;TZID=Asia/Hong_Kong:20260406T080000
DTEND;TZID=Asia/Hong_Kong:20260406T170000
DTSTAMP:20260420T150229
CREATED:20260406T093050Z
LAST-MODIFIED:20260406T093050Z
UID:27968-1775462400-1775494800@memoshk.com
SUMMARY:「相簿」COMIC1☆28 ほしいろ 同人TCG周邊
DESCRIPTION:
URL:https://memoshk.com/event/e26040601/
CATEGORIES:EVENTS資訊,同人賣場
ATTACH;FMTTYPE=image/jpeg:https://memoshk.com/wp-content/uploads/2026/04/comic128__tcg__playmat_1775467777_ff340f6b_progressive.jpg
END:VEVENT
BEGIN:VEVENT
DTSTART;TZID=Asia/Hong_Kong:20260409T080000
DTEND;TZID=Asia/Hong_Kong:20260409T170000
DTSTAMP:20260420T150229
CREATED:20260409T104029Z
LAST-MODIFIED:20260409T104029Z
UID:27995-1775721600-1775754000@memoshk.com
SUMMARY:「相簿」COMIC1☆28 EATOS 同人TCG周邊
DESCRIPTION: 
URL:https://memoshk.com/event/e26040602/
CATEGORIES:EVENTS資訊,同人賣場
ATTACH;FMTTYPE=image/jpeg:https://memoshk.com/wp-content/uploads/2026/04/006-2.jpg
END:VEVENT
END:VCALENDAR