BEGIN:VCALENDAR
VERSION:2.0
PRODID:-//MemosHK - ECPv6.15.15//NONSGML v1.0//EN
CALSCALE:GREGORIAN
METHOD:PUBLISH
X-WR-CALNAME:MemosHK
X-ORIGINAL-URL:https://memoshk.com
X-WR-CALDESC:MemosHK的活动
REFRESH-INTERVAL;VALUE=DURATION:PT1H
X-Robots-Tag:noindex
X-PUBLISHED-TTL:PT1H
BEGIN:VTIMEZONE
TZID:Asia/Hong_Kong
BEGIN:STANDARD
TZOFFSETFROM:+0800
TZOFFSETTO:+0800
TZNAME:HKT
DTSTART:20220101T000000
END:STANDARD
END:VTIMEZONE
BEGIN:VEVENT
DTSTART;TZID=Asia/Hong_Kong:20231028T080000
DTEND;TZID=Asia/Hong_Kong:20231028T170000
DTSTAMP:20260424T083118
CREATED:20231028T075458Z
LAST-MODIFIED:20231030T131354Z
UID:16278-1698480000-1698512400@memoshk.com
SUMMARY:「相簿」SC2023Autumn 白詰草 同人 卡套 Playmat
DESCRIPTION:
URL:https://memoshk.com/event/e23102403/
CATEGORIES:EVENTS資訊,同人賣場
END:VEVENT
BEGIN:VEVENT
DTSTART;TZID=Asia/Hong_Kong:20231028T080000
DTEND;TZID=Asia/Hong_Kong:20231028T170000
DTSTAMP:20260424T083118
CREATED:20231028T075254Z
LAST-MODIFIED:20231028T161353Z
UID:16260-1698480000-1698512400@memoshk.com
SUMMARY:「相簿」SC2023Autumn ミッドナイトブルー 同人 卡套 Playmat
DESCRIPTION:
URL:https://memoshk.com/event/e23102402/
CATEGORIES:EVENTS資訊,同人賣場
END:VEVENT
BEGIN:VEVENT
DTSTART;TZID=Asia/Hong_Kong:20231024T080000
DTEND;TZID=Asia/Hong_Kong:20231024T170000
DTSTAMP:20260424T083118
CREATED:20231024T102133Z
LAST-MODIFIED:20231024T104645Z
UID:16199-1698134400-1698166800@memoshk.com
SUMMARY:「相簿」SC2023Autumn EATOS 同人 卡套 Playmat
DESCRIPTION:                         
URL:https://memoshk.com/event/e23102401/
CATEGORIES:EVENTS資訊,同人賣場
END:VEVENT
BEGIN:VEVENT
DTSTART;TZID=Asia/Hong_Kong:20230927T080000
DTEND;TZID=Asia/Hong_Kong:20230927T170000
DTSTAMP:20260424T083118
CREATED:20230927T122214Z
LAST-MODIFIED:20230927T134753Z
UID:15891-1695801600-1695834000@memoshk.com
SUMMARY:「相簿」 COMIC1☆23 サンパン&Cake Rabbits 同人 卡套 卡盒 Playmat
DESCRIPTION:
URL:https://memoshk.com/event/e23092205/
CATEGORIES:EVENTS資訊,同人賣場
END:VEVENT
BEGIN:VEVENT
DTSTART;TZID=Asia/Hong_Kong:20230927T080000
DTEND;TZID=Asia/Hong_Kong:20230927T170000
DTSTAMP:20260424T083118
CREATED:20230927T121451Z
LAST-MODIFIED:20230927T134728Z
UID:15876-1695801600-1695834000@memoshk.com
SUMMARY:「相簿」 COMIC1☆23 Scarlet Agents 同人 卡套 卡盒 Playmat
DESCRIPTION:
URL:https://memoshk.com/event/e23092204/
CATEGORIES:EVENTS資訊,同人賣場
END:VEVENT
BEGIN:VEVENT
DTSTART;TZID=Asia/Hong_Kong:20230924T080000
DTEND;TZID=Asia/Hong_Kong:20230924T170000
DTSTAMP:20260424T083118
CREATED:20230924T064827Z
LAST-MODIFIED:20230927T163527Z
UID:15818-1695542400-1695574800@memoshk.com
SUMMARY:「相簿」 COMIC1☆23 白詰草 同人 卡套 卡盒 Playmat
DESCRIPTION:
URL:https://memoshk.com/event/e23092203/
CATEGORIES:EVENTS資訊,同人賣場
END:VEVENT
BEGIN:VEVENT
DTSTART;TZID=Asia/Hong_Kong:20230922T080000
DTEND;TZID=Asia/Hong_Kong:20230922T170000
DTSTAMP:20260424T083118
CREATED:20230922T111222Z
LAST-MODIFIED:20230922T111222Z
UID:15758-1695369600-1695402000@memoshk.com
SUMMARY:「代購」 COMIC1☆23 ミッドナイトブルー 同人 卡套 卡盒 Playmat
DESCRIPTION:
URL:https://memoshk.com/event/e23092202/
CATEGORIES:EVENTS資訊,同人賣場
END:VEVENT
BEGIN:VEVENT
DTSTART;TZID=Asia/Hong_Kong:20230922T080000
DTEND;TZID=Asia/Hong_Kong:20230922T170000
DTSTAMP:20260424T083118
CREATED:20230922T095405Z
LAST-MODIFIED:20230922T095405Z
UID:15738-1695369600-1695402000@memoshk.com
SUMMARY:「相簿」 COMIC1☆23 EATOS 同人 卡套 Playmat
DESCRIPTION:
URL:https://memoshk.com/event/e23092201/
CATEGORIES:EVENTS資訊,同人賣場
END:VEVENT
BEGIN:VEVENT
DTSTART;TZID=Asia/Hong_Kong:20230823T080000
DTEND;TZID=Asia/Hong_Kong:20230823T170000
DTSTAMP:20260424T083118
CREATED:20230822T223930Z
LAST-MODIFIED:20230822T223930Z
UID:15467-1692777600-1692810000@memoshk.com
SUMMARY:「相簿」CT42 EATOS 同人卡套Playmat
DESCRIPTION:
URL:https://memoshk.com/event/e23082301/
CATEGORIES:EVENTS資訊,同人賣場
END:VEVENT
BEGIN:VEVENT
DTSTART;TZID=Asia/Hong_Kong:20230809T080000
DTEND;TZID=Asia/Hong_Kong:20230809T170000
DTSTAMP:20260424T083118
CREATED:20230809T021053Z
LAST-MODIFIED:20230809T025443Z
UID:15342-1691568000-1691600400@memoshk.com
SUMMARY:「相簿」C102 ぴらるーく 同人卡套卡盒Playmat
DESCRIPTION:
URL:https://memoshk.com/event/e23072115/
CATEGORIES:EVENTS資訊,同人賣場
END:VEVENT
BEGIN:VEVENT
DTSTART;TZID=Asia/Hong_Kong:20230808T080000
DTEND;TZID=Asia/Hong_Kong:20230808T170000
DTSTAMP:20260424T083118
CREATED:20230808T062305Z
LAST-MODIFIED:20230808T085255Z
UID:15269-1691481600-1691514000@memoshk.com
SUMMARY:「相簿」C102 未確認スリーブ 同人卡套卡盒Playmat
DESCRIPTION:
URL:https://memoshk.com/event/e23072114/
CATEGORIES:EVENTS資訊,同人賣場
END:VEVENT
BEGIN:VEVENT
DTSTART;TZID=Asia/Hong_Kong:20230805T080000
DTEND;TZID=Asia/Hong_Kong:20230805T170000
DTSTAMP:20260424T083118
CREATED:20230805T074737Z
LAST-MODIFIED:20230809T020041Z
UID:15050-1691222400-1691254800@memoshk.com
SUMMARY:「相簿」C102 逸遊団&グッドケミストリ 同人卡套卡盒Playmat
DESCRIPTION:2
URL:https://memoshk.com/event/e23072113/
CATEGORIES:EVENTS資訊,同人賣場
END:VEVENT
BEGIN:VEVENT
DTSTART;TZID=Asia/Hong_Kong:20230805T080000
DTEND;TZID=Asia/Hong_Kong:20230805T170000
DTSTAMP:20260424T083118
CREATED:20230805T074627Z
LAST-MODIFIED:20230808T091106Z
UID:15028-1691222400-1691254800@memoshk.com
SUMMARY:「相簿」C102 サンパン&Cake Rabbits 同人卡套卡盒Playmat
DESCRIPTION:
URL:https://memoshk.com/event/e23072111/
CATEGORIES:EVENTS資訊,同人賣場
END:VEVENT
BEGIN:VEVENT
DTSTART;TZID=Asia/Hong_Kong:20230804T080000
DTEND;TZID=Asia/Hong_Kong:20230804T170000
DTSTAMP:20260424T083118
CREATED:20230804T054336Z
LAST-MODIFIED:20230808T101830Z
UID:14918-1691136000-1691168400@memoshk.com
SUMMARY:「相簿」C102 クラスター&フレシア 同人卡套卡盒Playmat
DESCRIPTION:
URL:https://memoshk.com/event/e23072112/
CATEGORIES:EVENTS資訊,同人賣場
END:VEVENT
BEGIN:VEVENT
DTSTART;TZID=Asia/Hong_Kong:20230802T080000
DTEND;TZID=Asia/Hong_Kong:20230802T170000
DTSTAMP:20260424T083118
CREATED:20230802T154024Z
LAST-MODIFIED:20230802T154024Z
UID:14880-1690963200-1690995600@memoshk.com
SUMMARY:「相簿」C102 しゃあぷぺんそぅ 同人卡套卡盒Playmat
DESCRIPTION:
URL:https://memoshk.com/event/e23072110/
CATEGORIES:EVENTS資訊,同人賣場
END:VEVENT
BEGIN:VEVENT
DTSTART;TZID=Asia/Hong_Kong:20230802T080000
DTEND;TZID=Asia/Hong_Kong:20230802T170000
DTSTAMP:20260424T083118
CREATED:20230802T152928Z
LAST-MODIFIED:20230805T111913Z
UID:14870-1690963200-1690995600@memoshk.com
SUMMARY:「相簿」C102 アクアアルタ 同人卡套卡盒Playmat
DESCRIPTION:
URL:https://memoshk.com/event/e23072109/
CATEGORIES:EVENTS資訊,同人賣場
END:VEVENT
BEGIN:VEVENT
DTSTART;TZID=Asia/Hong_Kong:20230802T080000
DTEND;TZID=Asia/Hong_Kong:20230802T170000
DTSTAMP:20260424T083118
CREATED:20230802T152617Z
LAST-MODIFIED:20230808T060843Z
UID:14851-1690963200-1690995600@memoshk.com
SUMMARY:「相簿」C102 ぱる家 同人卡套卡盒Playmat
DESCRIPTION:
URL:https://memoshk.com/event/e23072108/
CATEGORIES:EVENTS資訊,同人賣場
END:VEVENT
BEGIN:VEVENT
DTSTART;TZID=Asia/Hong_Kong:20230802T080000
DTEND;TZID=Asia/Hong_Kong:20230802T170000
DTSTAMP:20260424T083119
CREATED:20230802T151507Z
LAST-MODIFIED:20230809T020112Z
UID:14806-1690963200-1690995600@memoshk.com
SUMMARY:「相簿」C102 Scarlet Agents 同人卡套卡盒Playmat
DESCRIPTION:
URL:https://memoshk.com/event/e23072107/
CATEGORIES:EVENTS資訊,同人賣場
END:VEVENT
BEGIN:VEVENT
DTSTART;TZID=Asia/Hong_Kong:20230802T080000
DTEND;TZID=Asia/Hong_Kong:20230802T170000
DTSTAMP:20260424T083119
CREATED:20230802T150910Z
LAST-MODIFIED:20230807T112433Z
UID:14800-1690963200-1690995600@memoshk.com
SUMMARY:「相簿」C102 混沌の女神様 同人卡套卡盒Playmat
DESCRIPTION: 
URL:https://memoshk.com/event/e23072106/
CATEGORIES:EVENTS資訊,同人賣場
END:VEVENT
BEGIN:VEVENT
DTSTART;TZID=Asia/Hong_Kong:20230802T080000
DTEND;TZID=Asia/Hong_Kong:20230802T170000
DTSTAMP:20260424T083119
CREATED:20230802T150600Z
LAST-MODIFIED:20230804T112424Z
UID:14708-1690963200-1690995600@memoshk.com
SUMMARY:「相簿」C102 ミッドナイトブルー 同人卡套卡盒Playmat
DESCRIPTION: 
URL:https://memoshk.com/event/e23072105/
CATEGORIES:EVENTS資訊,同人賣場
END:VEVENT
BEGIN:VEVENT
DTSTART;TZID=Asia/Hong_Kong:20230802T080000
DTEND;TZID=Asia/Hong_Kong:20230802T170000
DTSTAMP:20260424T083119
CREATED:20230802T145249Z
LAST-MODIFIED:20230806T181843Z
UID:14671-1690963200-1690995600@memoshk.com
SUMMARY:「相簿」C102 白詰草 同人卡套卡盒Playmat
DESCRIPTION:
URL:https://memoshk.com/event/e23072104/
CATEGORIES:EVENTS資訊,同人賣場
END:VEVENT
BEGIN:VEVENT
DTSTART;TZID=Asia/Hong_Kong:20230723T080000
DTEND;TZID=Asia/Hong_Kong:20230723T170000
DTSTAMP:20260424T083119
CREATED:20230723T081906Z
LAST-MODIFIED:20230723T081929Z
UID:14421-1690099200-1690131600@memoshk.com
SUMMARY:「相簿」C102 夢現工房 同人卡套卡盒Playmat
DESCRIPTION:
URL:https://memoshk.com/event/e23072103/
CATEGORIES:EVENTS資訊,同人賣場
END:VEVENT
BEGIN:VEVENT
DTSTART;TZID=Asia/Hong_Kong:20230721T080000
DTEND;TZID=Asia/Hong_Kong:20230721T170000
DTSTAMP:20260424T083119
CREATED:20230721T155249Z
LAST-MODIFIED:20230723T095653Z
UID:14316-1689926400-1689958800@memoshk.com
SUMMARY:「相簿」C102 EATOS 同人卡套卡盒Playmat
DESCRIPTION:
URL:https://memoshk.com/event/e23072101/
CATEGORIES:EVENTS資訊,同人賣場
END:VEVENT
BEGIN:VEVENT
DTSTART;TZID=Asia/Hong_Kong:20230721T080000
DTEND;TZID=Asia/Hong_Kong:20230721T170000
DTSTAMP:20260424T083119
CREATED:20230721T155244Z
LAST-MODIFIED:20230802T152103Z
UID:14410-1689926400-1689958800@memoshk.com
SUMMARY:「代購」C102 路地裏同盟 同人卡套卡盒Playmat
DESCRIPTION:
URL:https://memoshk.com/event/e23072102/
CATEGORIES:EVENTS資訊,同人賣場
END:VEVENT
BEGIN:VEVENT
DTSTART;TZID=Asia/Hong_Kong:20230621T080000
DTEND;TZID=Asia/Hong_Kong:20230621T170000
DTSTAMP:20260424T083119
CREATED:20230621T024159Z
LAST-MODIFIED:20230621T150354Z
UID:13929-1687334400-1687366800@memoshk.com
SUMMARY:「相簿」ぴらるーく 同人卡套卡盒Playmat
DESCRIPTION:
URL:https://memoshk.com/event/e23062102/
CATEGORIES:EVENTS資訊,同人賣場
END:VEVENT
BEGIN:VEVENT
DTSTART;TZID=Asia/Hong_Kong:20230612T080000
DTEND;TZID=Asia/Hong_Kong:20230612T170000
DTSTAMP:20260424T083119
CREATED:20230612T025407Z
LAST-MODIFIED:20230614T054253Z
UID:13833-1686556800-1686589200@memoshk.com
SUMMARY:「相簿」白詰草 SC2023Summer 同人卡套卡盒Playmat
DESCRIPTION:
URL:https://memoshk.com/event/e23060207/
CATEGORIES:EVENTS資訊,同人賣場
END:VEVENT
BEGIN:VEVENT
DTSTART;TZID=Asia/Hong_Kong:20230611T080000
DTEND;TZID=Asia/Hong_Kong:20230611T170000
DTSTAMP:20260424T083119
CREATED:20230610T160616Z
LAST-MODIFIED:20230613T174550Z
UID:13783-1686470400-1686502800@memoshk.com
SUMMARY:「相簿」逸遊団 & ぱる家 SC2023Summer 同人卡套卡盒Playmat
DESCRIPTION:
URL:https://memoshk.com/event/e23060206/
CATEGORIES:EVENTS資訊,同人賣場
END:VEVENT
BEGIN:VEVENT
DTSTART;TZID=Asia/Hong_Kong:20230610T080000
DTEND;TZID=Asia/Hong_Kong:20230610T170000
DTSTAMP:20260424T083119
CREATED:20230610T160257Z
LAST-MODIFIED:20230614T101935Z
UID:13737-1686384000-1686416400@memoshk.com
SUMMARY:「相簿」サンパン & Cake Rabbits SC2023Summer 同人卡套卡盒Playmat
DESCRIPTION:
URL:https://memoshk.com/event/e23060205/
CATEGORIES:EVENTS資訊,同人賣場
END:VEVENT
BEGIN:VEVENT
DTSTART;TZID=Asia/Hong_Kong:20230610T080000
DTEND;TZID=Asia/Hong_Kong:20230610T170000
DTSTAMP:20260424T083119
CREATED:20230610T155535Z
LAST-MODIFIED:20230614T115300Z
UID:13725-1686384000-1686416400@memoshk.com
SUMMARY:「相簿」混沌の女神様 SC2023Summer 同人卡套卡盒Playmat
DESCRIPTION:
URL:https://memoshk.com/event/e23060204/
CATEGORIES:EVENTS資訊,同人賣場
END:VEVENT
BEGIN:VEVENT
DTSTART;TZID=Asia/Hong_Kong:20230609T080000
DTEND;TZID=Asia/Hong_Kong:20230609T170000
DTSTAMP:20260424T083119
CREATED:20230609T140206Z
LAST-MODIFIED:20230615T150519Z
UID:13716-1686297600-1686330000@memoshk.com
SUMMARY:「相簿」Scarlet Agents SC2023Summer 同人卡套卡盒Playmat
DESCRIPTION:
URL:https://memoshk.com/event/e23060203/
CATEGORIES:EVENTS資訊,同人賣場
END:VEVENT
END:VCALENDAR