BEGIN:VCALENDAR
VERSION:2.0
PRODID:-//MemosHK - ECPv6.15.15//NONSGML v1.0//EN
CALSCALE:GREGORIAN
METHOD:PUBLISH
X-WR-CALNAME:MemosHK
X-ORIGINAL-URL:https://memoshk.com
X-WR-CALDESC:MemosHK的活动
REFRESH-INTERVAL;VALUE=DURATION:PT1H
X-Robots-Tag:noindex
X-PUBLISHED-TTL:PT1H
BEGIN:VTIMEZONE
TZID:Asia/Hong_Kong
BEGIN:STANDARD
TZOFFSETFROM:+0800
TZOFFSETTO:+0800
TZNAME:HKT
DTSTART:20210101T000000
END:STANDARD
END:VTIMEZONE
BEGIN:VEVENT
DTSTART;TZID=Asia/Hong_Kong:20230503T080000
DTEND;TZID=Asia/Hong_Kong:20230503T170000
DTSTAMP:20260421T075936
CREATED:20230503T105342Z
LAST-MODIFIED:20230503T105342Z
UID:13381-1683100800-1683133200@memoshk.com
SUMMARY:「相簿」SIDEREAL 同人卡套卡盒Playmat
DESCRIPTION:
URL:https://memoshk.com/event/e23041911/
CATEGORIES:EVENTS資訊,同人賣場
END:VEVENT
BEGIN:VEVENT
DTSTART;TZID=Asia/Hong_Kong:20230428T080000
DTEND;TZID=Asia/Hong_Kong:20230428T170000
DTSTAMP:20260421T075936
CREATED:20230428T125856Z
LAST-MODIFIED:20230428T125856Z
UID:13237-1682668800-1682701200@memoshk.com
SUMMARY:「相簿」路地裏同盟 同人卡套卡盒Playmat
DESCRIPTION:
URL:https://memoshk.com/event/e23041910/
CATEGORIES:EVENTS資訊,同人賣場
END:VEVENT
BEGIN:VEVENT
DTSTART;TZID=Asia/Hong_Kong:20230426T080000
DTEND;TZID=Asia/Hong_Kong:20230426T170000
DTSTAMP:20260421T075936
CREATED:20230426T125109Z
LAST-MODIFIED:20230430T082613Z
UID:13178-1682496000-1682528400@memoshk.com
SUMMARY:「相簿」電撃亭 COMIC1☆22 同人卡套卡盒Playmat
DESCRIPTION:
URL:https://memoshk.com/event/e23041909/
CATEGORIES:EVENTS資訊,同人賣場
END:VEVENT
BEGIN:VEVENT
DTSTART;TZID=Asia/Hong_Kong:20230426T080000
DTEND;TZID=Asia/Hong_Kong:20230426T170000
DTSTAMP:20260421T075936
CREATED:20230426T124324Z
LAST-MODIFIED:20230503T163930Z
UID:13153-1682496000-1682528400@memoshk.com
SUMMARY:「相簿」混沌の女神様 COMIC1☆22 同人卡套卡盒Playmat
DESCRIPTION:
URL:https://memoshk.com/event/e23041908/
CATEGORIES:EVENTS資訊,同人賣場
END:VEVENT
BEGIN:VEVENT
DTSTART;TZID=Asia/Hong_Kong:20230426T080000
DTEND;TZID=Asia/Hong_Kong:20230426T170000
DTSTAMP:20260421T075936
CREATED:20230426T123950Z
LAST-MODIFIED:20230502T073730Z
UID:13110-1682496000-1682528400@memoshk.com
SUMMARY:「相簿」白詰草 COMIC1☆22 同人卡套卡盒Playmat
DESCRIPTION:
URL:https://memoshk.com/event/e23041907/
CATEGORIES:EVENTS資訊,同人賣場
END:VEVENT
BEGIN:VEVENT
DTSTART;TZID=Asia/Hong_Kong:20230426T080000
DTEND;TZID=Asia/Hong_Kong:20230426T170000
DTSTAMP:20260421T075936
CREATED:20230426T123712Z
LAST-MODIFIED:20230427T121925Z
UID:13028-1682496000-1682528400@memoshk.com
SUMMARY:「相簿」ミッドナイトブルー COMIC1☆22 同人卡套卡盒Playmat
DESCRIPTION:
URL:https://memoshk.com/event/e23041906/
CATEGORIES:EVENTS資訊,同人賣場
END:VEVENT
BEGIN:VEVENT
DTSTART;TZID=Asia/Hong_Kong:20230426T080000
DTEND;TZID=Asia/Hong_Kong:20230426T170000
DTSTAMP:20260421T075936
CREATED:20230426T123348Z
LAST-MODIFIED:20230502T141942Z
UID:13018-1682496000-1682528400@memoshk.com
SUMMARY:「相簿」逸遊団 & ぱる家 COMIC1☆22 同人卡套卡盒Playmat
DESCRIPTION:
URL:https://memoshk.com/event/e23041905/
CATEGORIES:EVENTS資訊,同人賣場
END:VEVENT
BEGIN:VEVENT
DTSTART;TZID=Asia/Hong_Kong:20230426T080000
DTEND;TZID=Asia/Hong_Kong:20230426T170000
DTSTAMP:20260421T075936
CREATED:20230426T123239Z
LAST-MODIFIED:20230501T105711Z
UID:12984-1682496000-1682528400@memoshk.com
SUMMARY:「相簿」サンパン & Cake Rabbits COMIC1☆22 同人卡套卡盒Playmat
DESCRIPTION:
URL:https://memoshk.com/event/e23041904/
CATEGORIES:EVENTS資訊,同人賣場
END:VEVENT
BEGIN:VEVENT
DTSTART;TZID=Asia/Hong_Kong:20230426T080000
DTEND;TZID=Asia/Hong_Kong:20230426T170000
DTSTAMP:20260421T075936
CREATED:20230426T123020Z
LAST-MODIFIED:20230429T105900Z
UID:12982-1682496000-1682528400@memoshk.com
SUMMARY:「相簿」クラスター COMIC1☆22 同人卡套卡盒Playmat
DESCRIPTION:
URL:https://memoshk.com/event/e23041903/
CATEGORIES:EVENTS資訊,同人賣場
END:VEVENT
BEGIN:VEVENT
DTSTART;TZID=Asia/Hong_Kong:20230426T080000
DTEND;TZID=Asia/Hong_Kong:20230426T170000
DTSTAMP:20260421T075936
CREATED:20230426T122731Z
LAST-MODIFIED:20230503T164000Z
UID:12949-1682496000-1682528400@memoshk.com
SUMMARY:「相簿」Scarlet Agents COMIC1☆22 同人卡套卡盒Playmat
DESCRIPTION:
URL:https://memoshk.com/event/e23041902/
CATEGORIES:EVENTS資訊,同人賣場
END:VEVENT
BEGIN:VEVENT
DTSTART;TZID=Asia/Hong_Kong:20230419T080000
DTEND;TZID=Asia/Hong_Kong:20230419T170000
DTSTAMP:20260421T075936
CREATED:20230418T202748Z
LAST-MODIFIED:20230429T101234Z
UID:12862-1681891200-1681923600@memoshk.com
SUMMARY:「相簿」EATOS COMIC1☆22 同人卡套卡盒Playmat
DESCRIPTION:
URL:https://memoshk.com/event/e23041901/
CATEGORIES:EVENTS資訊,同人賣場
END:VEVENT
BEGIN:VEVENT
DTSTART;TZID=Asia/Hong_Kong:20230227T080000
DTEND;TZID=Asia/Hong_Kong:20230227T170000
DTSTAMP:20260421T075936
CREATED:20230227T125759Z
LAST-MODIFIED:20230427T122227Z
UID:12262-1677484800-1677517200@memoshk.com
SUMMARY:「相簿」白詰草 SC2023SPRING
DESCRIPTION:
URL:https://memoshk.com/event/e23022107/
CATEGORIES:EVENTS資訊,同人賣場
END:VEVENT
BEGIN:VEVENT
DTSTART;TZID=Asia/Hong_Kong:20230227T080000
DTEND;TZID=Asia/Hong_Kong:20230227T170000
DTSTAMP:20260421T075936
CREATED:20230227T052634Z
LAST-MODIFIED:20230301T084300Z
UID:12253-1677484800-1677517200@memoshk.com
SUMMARY:「相簿」逸遊団&ぱる家 SC2023SPRING
DESCRIPTION:逸遊団:\n      \n  \nぱる家:
URL:https://memoshk.com/event/e23022106/
CATEGORIES:EVENTS資訊,同人賣場
END:VEVENT
BEGIN:VEVENT
DTSTART;TZID=Asia/Hong_Kong:20230227T080000
DTEND;TZID=Asia/Hong_Kong:20230227T170000
DTSTAMP:20260421T075936
CREATED:20230227T052504Z
LAST-MODIFIED:20230301T074443Z
UID:12247-1677484800-1677517200@memoshk.com
SUMMARY:「相簿」混沌の女神様 SC2023SPRING
DESCRIPTION:
URL:https://memoshk.com/event/e23022105/
CATEGORIES:EVENTS資訊,同人賣場
END:VEVENT
BEGIN:VEVENT
DTSTART;TZID=Asia/Hong_Kong:20230227T080000
DTEND;TZID=Asia/Hong_Kong:20230227T170000
DTSTAMP:20260421T075936
CREATED:20230227T052333Z
LAST-MODIFIED:20230227T125850Z
UID:12225-1677484800-1677517200@memoshk.com
SUMMARY:「相簿」サンパン&Cake Rabbits SC2023SPRING
DESCRIPTION:
URL:https://memoshk.com/event/e23022104/
CATEGORIES:EVENTS資訊,同人賣場
END:VEVENT
BEGIN:VEVENT
DTSTART;TZID=Asia/Hong_Kong:20230221T080000
DTEND;TZID=Asia/Hong_Kong:20230221T170000
DTSTAMP:20260421T075936
CREATED:20230221T114753Z
LAST-MODIFIED:20230301T074417Z
UID:12057-1676966400-1676998800@memoshk.com
SUMMARY:「相簿」Scarlet Agents SC2023SPRING
DESCRIPTION:
URL:https://memoshk.com/event/e23022103/
CATEGORIES:EVENTS資訊,同人賣場
END:VEVENT
BEGIN:VEVENT
DTSTART;TZID=Asia/Hong_Kong:20230221T080000
DTEND;TZID=Asia/Hong_Kong:20230221T170000
DTSTAMP:20260421T075936
CREATED:20230221T114651Z
LAST-MODIFIED:20230222T133849Z
UID:12010-1676966400-1676998800@memoshk.com
SUMMARY:「相簿」EATOS SC2023SPRING
DESCRIPTION:
URL:https://memoshk.com/event/e23022102/
CATEGORIES:EVENTS資訊,同人賣場
END:VEVENT
BEGIN:VEVENT
DTSTART;TZID=Asia/Hong_Kong:20230221T080000
DTEND;TZID=Asia/Hong_Kong:20230221T170000
DTSTAMP:20260421T075936
CREATED:20230221T112231Z
LAST-MODIFIED:20230221T114445Z
UID:11978-1676966400-1676998800@memoshk.com
SUMMARY:「相簿」ミッドナイトブルー SC2023SPRING
DESCRIPTION:
URL:https://memoshk.com/event/e23022101/
CATEGORIES:EVENTS資訊,同人賣場
END:VEVENT
BEGIN:VEVENT
DTSTART;TZID=Asia/Hong_Kong:20230119T080000
DTEND;TZID=Asia/Hong_Kong:20230119T170000
DTSTAMP:20260421T075936
CREATED:20230119T141846Z
LAST-MODIFIED:20230119T163320Z
UID:11584-1674115200-1674147600@memoshk.com
SUMMARY:清倉2022
DESCRIPTION:*不時更新 \n  \n$700 @SET \n$250 @1 \n$200 @1 \n$80 @1 \n \n \n \n \n$150 @1 \n赤井心2021直筆fullset $250 \n \n$5 @1 \n \n \n50 @1 \n 50 @1 \n 20 @1 \n150 @1 \n10 @1 \n \n \n \n \n$340 @1 \n \n \n \n \n \n \n$250 @1 \n \n$50 @1 \n \n \n \n \n \n \n \n \n \n \n \n \n \n$90 @1 \n \n \n$160 @1 \n$5 @1 \n \n \n \n \n \n \n \n \n \n \n \n \n$180 @SET \n \n \n \n \n$20 @1細盒 \n \n \n$350 @1SET \n \n$400 @1 \n \n \n \n \n \n \n$200 @1 \n \n$40 @1
URL:https://memoshk.com/event/s230119/
CATEGORIES:其他,商品資訊
ATTACH;FMTTYPE=image/jpeg:https://memoshk.com/wp-content/uploads/2023/01/2021-01-124.jpg
END:VEVENT
BEGIN:VEVENT
DTSTART;TZID=Asia/Hong_Kong:20230104T080000
DTEND;TZID=Asia/Hong_Kong:20230104T170000
DTSTAMP:20260421T075936
CREATED:20230104T093706Z
LAST-MODIFIED:20230104T093706Z
UID:11443-1672819200-1672851600@memoshk.com
SUMMARY:「代購」 EATOS こみトレ41 同人TCG周邊 卡套卡盒Playmat
DESCRIPTION:
URL:https://memoshk.com/event/e23010401/
CATEGORIES:EVENTS資訊,同人賣場
END:VEVENT
BEGIN:VEVENT
DTSTART;TZID=Asia/Hong_Kong:20221226T080000
DTEND;TZID=Asia/Hong_Kong:20221226T170000
DTSTAMP:20260421T075936
CREATED:20221225T181342Z
LAST-MODIFIED:20221228T124526Z
UID:11242-1672041600-1672074000@memoshk.com
SUMMARY:「相簿」[C101] ぴらるーく 同人TCG周邊 卡套卡盒Playmat
DESCRIPTION:
URL:https://memoshk.com/event/e22121416/
CATEGORIES:EVENTS資訊,同人賣場
END:VEVENT
BEGIN:VEVENT
DTSTART;TZID=Asia/Hong_Kong:20221225T080000
DTEND;TZID=Asia/Hong_Kong:20221225T170000
DTSTAMP:20260421T075936
CREATED:20221225T063334Z
LAST-MODIFIED:20221225T063334Z
UID:11165-1671955200-1671987600@memoshk.com
SUMMARY:「相簿」[C101] 未確認スリーブ 同人TCG周邊 卡套卡盒Playmat
DESCRIPTION:
URL:https://memoshk.com/event/e22121415/
CATEGORIES:EVENTS資訊,同人賣場
END:VEVENT
BEGIN:VEVENT
DTSTART;TZID=Asia/Hong_Kong:20221221T080000
DTEND;TZID=Asia/Hong_Kong:20221221T170000
DTSTAMP:20260421T075936
CREATED:20221221T155640Z
LAST-MODIFIED:20221226T112157Z
UID:10891-1671609600-1671642000@memoshk.com
SUMMARY:「相簿」[C101] サンパン&Cake Rabbits 同人TCG周邊 卡套卡盒Playmat
DESCRIPTION:
URL:https://memoshk.com/event/e22121414/
CATEGORIES:EVENTS資訊,同人賣場
END:VEVENT
BEGIN:VEVENT
DTSTART;TZID=Asia/Hong_Kong:20221221T080000
DTEND;TZID=Asia/Hong_Kong:20221221T170000
DTSTAMP:20260421T075936
CREATED:20221221T154432Z
LAST-MODIFIED:20221223T113333Z
UID:10856-1671609600-1671642000@memoshk.com
SUMMARY:「相簿」[C101] クラスター&フレシア 同人TCG周邊 卡套卡盒Playmat
DESCRIPTION:
URL:https://memoshk.com/event/e22121413/
CATEGORIES:EVENTS資訊,同人賣場
END:VEVENT
BEGIN:VEVENT
DTSTART;TZID=Asia/Hong_Kong:20221220T080000
DTEND;TZID=Asia/Hong_Kong:20221220T170000
DTSTAMP:20260421T075936
CREATED:20221220T115358Z
LAST-MODIFIED:20221226T165552Z
UID:10794-1671523200-1671555600@memoshk.com
SUMMARY:「相簿」[C101] 混沌の女神様 同人TCG周邊 卡套卡盒Playmat
DESCRIPTION:
URL:https://memoshk.com/event/e22121412/
CATEGORIES:EVENTS資訊,同人賣場
END:VEVENT
BEGIN:VEVENT
DTSTART;TZID=Asia/Hong_Kong:20221219T080000
DTEND;TZID=Asia/Hong_Kong:20221219T170000
DTSTAMP:20260421T075936
CREATED:20221219T103300Z
LAST-MODIFIED:20221219T182622Z
UID:10729-1671436800-1671469200@memoshk.com
SUMMARY:「相簿」[C101] SIDEREAL 同人TCG周邊 卡套卡盒Playmat
DESCRIPTION:
URL:https://memoshk.com/event/e22121411/
CATEGORIES:EVENTS資訊,同人賣場
END:VEVENT
BEGIN:VEVENT
DTSTART;TZID=Asia/Hong_Kong:20221217T080000
DTEND;TZID=Asia/Hong_Kong:20221217T170000
DTSTAMP:20260421T075936
CREATED:20221217T074825Z
LAST-MODIFIED:20221224T065616Z
UID:10560-1671264000-1671296400@memoshk.com
SUMMARY:「相簿」C101 hololive 同人本 / 周邊 接單中 (不定期更新)
DESCRIPTION:如希望代購可直接聯絡本店店員 (IG/FB/whatsapp)\n⭐沒有特別開團的同人本/周邊均可代購\, 歡迎查詢.
URL:https://memoshk.com/event/e22121709/
CATEGORIES:EVENTS資訊,同人賣場
END:VEVENT
BEGIN:VEVENT
DTSTART;TZID=Asia/Hong_Kong:20221216T080000
DTEND;TZID=Asia/Hong_Kong:20221216T170000
DTSTAMP:20260421T075936
CREATED:20221216T103316Z
LAST-MODIFIED:20221219T102455Z
UID:10496-1671177600-1671210000@memoshk.com
SUMMARY:「相簿」[C101] アクアアルタ 同人TCG周邊 卡套卡盒Playmat
DESCRIPTION:
URL:https://memoshk.com/event/e22121409/
CATEGORIES:EVENTS資訊,同人賣場
END:VEVENT
BEGIN:VEVENT
DTSTART;TZID=Asia/Hong_Kong:20221214T080000
DTEND;TZID=Asia/Hong_Kong:20221214T170000
DTSTAMP:20260421T075936
CREATED:20221214T082658Z
LAST-MODIFIED:20221214T114805Z
UID:10449-1671004800-1671037200@memoshk.com
SUMMARY:「相簿」[C101] 電撃亭 同人TCG周邊 卡套卡盒Playmat
DESCRIPTION:
URL:https://memoshk.com/event/e22121408/
CATEGORIES:EVENTS資訊,同人賣場
END:VEVENT
BEGIN:VEVENT
DTSTART;TZID=Asia/Hong_Kong:20221214T080000
DTEND;TZID=Asia/Hong_Kong:20221214T170000
DTSTAMP:20260421T075936
CREATED:20221214T082507Z
LAST-MODIFIED:20221214T082507Z
UID:10419-1671004800-1671037200@memoshk.com
SUMMARY:「相簿」[C101] 路地裏同盟 同人TCG周邊 卡套卡盒Playmat
DESCRIPTION:
URL:https://memoshk.com/event/e22121407/
CATEGORIES:EVENTS資訊,同人賣場
END:VEVENT
END:VCALENDAR