BEGIN:VCALENDAR
VERSION:2.0
PRODID:-//MemosHK - ECPv6.15.15//NONSGML v1.0//EN
CALSCALE:GREGORIAN
METHOD:PUBLISH
X-WR-CALNAME:MemosHK
X-ORIGINAL-URL:https://memoshk.com
X-WR-CALDESC:MemosHK的活动
REFRESH-INTERVAL;VALUE=DURATION:PT1H
X-Robots-Tag:noindex
X-PUBLISHED-TTL:PT1H
BEGIN:VTIMEZONE
TZID:Asia/Hong_Kong
BEGIN:STANDARD
TZOFFSETFROM:+0800
TZOFFSETTO:+0800
TZNAME:HKT
DTSTART:20230101T000000
END:STANDARD
END:VTIMEZONE
BEGIN:VEVENT
DTSTART;TZID=Asia/Hong_Kong:20241214T080000
DTEND;TZID=Asia/Hong_Kong:20241214T170000
DTSTAMP:20260420T101732
CREATED:20241214T071422Z
LAST-MODIFIED:20241226T100651Z
UID:22242-1734163200-1734195600@memoshk.com
SUMMARY:「相簿」 C105 Scarlet Agents 同人TCG周邊
DESCRIPTION: 
URL:https://memoshk.com/event/e24120907/
CATEGORIES:EVENTS資訊,同人賣場
ATTACH;FMTTYPE=image/png:https://memoshk.com/wp-content/uploads/2024/12/GeW5uCWasAAD8WQ.png
END:VEVENT
BEGIN:VEVENT
DTSTART;TZID=Asia/Hong_Kong:20241214T080000
DTEND;TZID=Asia/Hong_Kong:20241214T170000
DTSTAMP:20260420T101733
CREATED:20241214T070826Z
LAST-MODIFIED:20241225T100908Z
UID:22224-1734163200-1734195600@memoshk.com
SUMMARY:「相簿」 C105 ぱる家 同人TCG周邊
DESCRIPTION:
URL:https://memoshk.com/event/e24120906/
CATEGORIES:EVENTS資訊,同人賣場
ATTACH;FMTTYPE=image/jpeg:https://memoshk.com/wp-content/uploads/2024/12/016.jpg
END:VEVENT
BEGIN:VEVENT
DTSTART;TZID=Asia/Hong_Kong:20241214T080000
DTEND;TZID=Asia/Hong_Kong:20241214T170000
DTSTAMP:20260420T101733
CREATED:20241214T070536Z
LAST-MODIFIED:20241220T124056Z
UID:22200-1734163200-1734195600@memoshk.com
SUMMARY:「相簿」 C105 ミッドナイトブルー 同人TCG周邊
DESCRIPTION:                
URL:https://memoshk.com/event/e24120905/
CATEGORIES:EVENTS資訊,同人賣場
ATTACH;FMTTYPE=image/jpeg:https://memoshk.com/wp-content/uploads/2024/12/010-2-scaled.jpg
END:VEVENT
BEGIN:VEVENT
DTSTART;TZID=Asia/Hong_Kong:20241214T080000
DTEND;TZID=Asia/Hong_Kong:20241214T170000
DTSTAMP:20260420T101733
CREATED:20241214T070017Z
LAST-MODIFIED:20241218T082006Z
UID:22189-1734163200-1734195600@memoshk.com
SUMMARY:「相簿」 C105 路地裏同盟 同人TCG周邊
DESCRIPTION:     
URL:https://memoshk.com/event/e24120904/
CATEGORIES:EVENTS資訊,同人賣場
ATTACH;FMTTYPE=image/jpeg:https://memoshk.com/wp-content/uploads/2024/12/GerqE_zbsAMDKZD.jpg
END:VEVENT
BEGIN:VEVENT
DTSTART;TZID=Asia/Hong_Kong:20241211T080000
DTEND;TZID=Asia/Hong_Kong:20241211T170000
DTSTAMP:20260420T101733
CREATED:20241211T151021Z
LAST-MODIFIED:20241218T082904Z
UID:22083-1733904000-1733936400@memoshk.com
SUMMARY:「相簿」 C105 星之色 （ほしいろ） 同人TCG周邊
DESCRIPTION:
URL:https://memoshk.com/event/e24120903/
CATEGORIES:EVENTS資訊,同人賣場
ATTACH;FMTTYPE=image/jpeg:https://memoshk.com/wp-content/uploads/2024/12/006-2-scaled.jpg
END:VEVENT
BEGIN:VEVENT
DTSTART;TZID=Asia/Hong_Kong:20241209T080000
DTEND;TZID=Asia/Hong_Kong:20241209T170000
DTSTAMP:20260420T101733
CREATED:20241209T090305Z
LAST-MODIFIED:20241209T090305Z
UID:22050-1733731200-1733763600@memoshk.com
SUMMARY:「相簿」 C105 未確認スリーブ 同人TCG周邊
DESCRIPTION:         
URL:https://memoshk.com/event/e24120902/
CATEGORIES:EVENTS資訊,同人賣場
ATTACH;FMTTYPE=image/jpeg:https://memoshk.com/wp-content/uploads/2024/12/001.jpg
END:VEVENT
BEGIN:VEVENT
DTSTART;TZID=Asia/Hong_Kong:20241209T080000
DTEND;TZID=Asia/Hong_Kong:20241209T170000
DTSTAMP:20260420T101733
CREATED:20241209T083403Z
LAST-MODIFIED:20241214T063936Z
UID:22028-1733731200-1733763600@memoshk.com
SUMMARY:「相簿」 C105 EATOS 同人TCG周邊
DESCRIPTION:
URL:https://memoshk.com/event/e24120901/
CATEGORIES:EVENTS資訊,同人賣場
ATTACH;FMTTYPE=image/jpeg:https://memoshk.com/wp-content/uploads/2024/12/004-2-scaled.jpg
END:VEVENT
BEGIN:VEVENT
DTSTART;TZID=Asia/Hong_Kong:20241126T080000
DTEND;TZID=Asia/Hong_Kong:20241126T170000
DTSTAMP:20260420T101733
CREATED:20241126T075122Z
LAST-MODIFIED:20241126T075122Z
UID:21860-1732608000-1732640400@memoshk.com
SUMMARY:「相簿」 サンパン＆Cake Rabbits 冬コミ直前SP 同人TCG周邊
DESCRIPTION:
URL:https://memoshk.com/event/e24112601/
CATEGORIES:EVENTS資訊,同人賣場
ATTACH;FMTTYPE=image/jpeg:https://memoshk.com/wp-content/uploads/2024/11/007.jpg
END:VEVENT
BEGIN:VEVENT
DTSTART;TZID=Asia/Hong_Kong:20241112T080000
DTEND;TZID=Asia/Hong_Kong:20241112T170000
DTSTAMP:20260420T101733
CREATED:20241112T090752Z
LAST-MODIFIED:20241115T125729Z
UID:21788-1731398400-1731430800@memoshk.com
SUMMARY:「相簿」 鴉 4rt works WEB即売会 同人TCG周邊
DESCRIPTION:
URL:https://memoshk.com/event/e24110604/
CATEGORIES:EVENTS資訊,同人賣場
ATTACH;FMTTYPE=image/jpeg:https://memoshk.com/wp-content/uploads/2024/11/Gb76slUaoAAdLVD.jpg
END:VEVENT
BEGIN:VEVENT
DTSTART;TZID=Asia/Hong_Kong:20241106T080000
DTEND;TZID=Asia/Hong_Kong:20241106T170000
DTSTAMP:20260420T101733
CREATED:20241106T151246Z
LAST-MODIFIED:20241106T151246Z
UID:21681-1730880000-1730912400@memoshk.com
SUMMARY:「相簿」 白詰草 WEB即売会 同人TCG周邊
DESCRIPTION:
URL:https://memoshk.com/event/e24110603/
CATEGORIES:EVENTS資訊,同人賣場
ATTACH;FMTTYPE=image/jpeg:https://memoshk.com/wp-content/uploads/2024/11/004.jpg
END:VEVENT
BEGIN:VEVENT
DTSTART;TZID=Asia/Hong_Kong:20241106T080000
DTEND;TZID=Asia/Hong_Kong:20241106T170000
DTSTAMP:20260420T101733
CREATED:20241106T121722Z
LAST-MODIFIED:20241106T121722Z
UID:21666-1730880000-1730912400@memoshk.com
SUMMARY:「相簿」 エアコミティア150 ほしいろ 同人TCG周邊 卡套 Playmat
DESCRIPTION:
URL:https://memoshk.com/event/e24110602/
CATEGORIES:EVENTS資訊,同人賣場
ATTACH;FMTTYPE=image/jpeg:https://memoshk.com/wp-content/uploads/2024/11/001-2-scaled.jpg
END:VEVENT
BEGIN:VEVENT
DTSTART;TZID=Asia/Hong_Kong:20241106T080000
DTEND;TZID=Asia/Hong_Kong:20241106T170000
DTSTAMP:20260420T101733
CREATED:20241106T101334Z
LAST-MODIFIED:20241106T101624Z
UID:21644-1730880000-1730912400@memoshk.com
SUMMARY:「相簿」 混沌の女神様 WEB即売会 (9/11/2020) 同人TCG周邊
DESCRIPTION:ee24110601
URL:https://memoshk.com/event/e24110601/
CATEGORIES:EVENTS資訊,同人賣場
ATTACH;FMTTYPE=image/jpeg:https://memoshk.com/wp-content/uploads/2024/11/236.jpg
END:VEVENT
BEGIN:VEVENT
DTSTART;TZID=Asia/Hong_Kong:20241008T080000
DTEND;TZID=Asia/Hong_Kong:20241008T170000
DTSTAMP:20260420T101733
CREATED:20241008T131550Z
LAST-MODIFIED:20241008T131550Z
UID:21407-1728374400-1728406800@memoshk.com
SUMMARY:「相簿」 COMIC1☆25 ぱる家 同人TCG周邊
DESCRIPTION:
URL:https://memoshk.com/event/e24100405/
CATEGORIES:EVENTS資訊,同人賣場
ATTACH;FMTTYPE=image/jpeg:https://memoshk.com/wp-content/uploads/2024/10/004.jpg
END:VEVENT
BEGIN:VEVENT
DTSTART;TZID=Asia/Hong_Kong:20241008T080000
DTEND;TZID=Asia/Hong_Kong:20241008T170000
DTSTAMP:20260420T101733
CREATED:20241008T131450Z
LAST-MODIFIED:20241010T055154Z
UID:21384-1728374400-1728406800@memoshk.com
SUMMARY:「相簿」 COMIC1☆25 白詰草 同人TCG周邊
DESCRIPTION:
URL:https://memoshk.com/event/e24100404/
CATEGORIES:EVENTS資訊,同人賣場
ATTACH;FMTTYPE=image/jpeg:https://memoshk.com/wp-content/uploads/2024/10/008-scaled.jpg
END:VEVENT
BEGIN:VEVENT
DTSTART;TZID=Asia/Hong_Kong:20241008T080000
DTEND;TZID=Asia/Hong_Kong:20241008T170000
DTSTAMP:20260420T101733
CREATED:20241008T131344Z
LAST-MODIFIED:20241010T135951Z
UID:21348-1728374400-1728406800@memoshk.com
SUMMARY:「相簿」 COMIC1☆25 サンパン＆Cake Rabbits 同人TCG周邊
DESCRIPTION:
URL:https://memoshk.com/event/e24100403/
CATEGORIES:EVENTS資訊,同人賣場
ATTACH;FMTTYPE=image/jpeg:https://memoshk.com/wp-content/uploads/2024/10/009.jpg
END:VEVENT
BEGIN:VEVENT
DTSTART;TZID=Asia/Hong_Kong:20241004T080000
DTEND;TZID=Asia/Hong_Kong:20241004T170000
DTSTAMP:20260420T101733
CREATED:20241004T095117Z
LAST-MODIFIED:20241004T095117Z
UID:21319-1728028800-1728061200@memoshk.com
SUMMARY:「相簿」 COMIC1☆25 ほしいろ 同人TCG周邊
DESCRIPTION:
URL:https://memoshk.com/event/e24100402/
CATEGORIES:EVENTS資訊,同人賣場
ATTACH;FMTTYPE=image/jpeg:https://memoshk.com/wp-content/uploads/2024/10/001-scaled.jpg
END:VEVENT
BEGIN:VEVENT
DTSTART;TZID=Asia/Hong_Kong:20241004T080000
DTEND;TZID=Asia/Hong_Kong:20241004T170000
DTSTAMP:20260420T101733
CREATED:20241004T094935Z
LAST-MODIFIED:20241008T132506Z
UID:21288-1728028800-1728061200@memoshk.com
SUMMARY:「相簿」 COMIC1☆25 EATOS 同人TCG周邊
DESCRIPTION:
URL:https://memoshk.com/event/e24100401/
CATEGORIES:EVENTS資訊,同人賣場
ATTACH;FMTTYPE=image/jpeg:https://memoshk.com/wp-content/uploads/2024/10/006-scaled.jpg
END:VEVENT
BEGIN:VEVENT
DTSTART;TZID=Asia/Hong_Kong:20240918T080000
DTEND;TZID=Asia/Hong_Kong:20240918T170000
DTSTAMP:20260420T101733
CREATED:20240918T040724Z
LAST-MODIFIED:20240918T133644Z
UID:21183-1726646400-1726678800@memoshk.com
SUMMARY:「相簿」 SC2024Autumn 白詰草 同人TCG周邊
DESCRIPTION:
URL:https://memoshk.com/event/e2408266/
CATEGORIES:EVENTS資訊,同人賣場
ATTACH;FMTTYPE=image/jpeg:https://memoshk.com/wp-content/uploads/2024/09/010-scaled.jpg
END:VEVENT
BEGIN:VEVENT
DTSTART;TZID=Asia/Hong_Kong:20240917T080000
DTEND;TZID=Asia/Hong_Kong:20240917T170000
DTSTAMP:20260420T101733
CREATED:20240917T120053Z
LAST-MODIFIED:20240918T152549Z
UID:21166-1726560000-1726592400@memoshk.com
SUMMARY:「相簿」 SC2024Autumn サンパン＆Cake Rabbits 同人TCG周邊
DESCRIPTION:
URL:https://memoshk.com/event/e2408265/
CATEGORIES:EVENTS資訊,同人賣場
ATTACH;FMTTYPE=image/jpeg:https://memoshk.com/wp-content/uploads/2024/09/013.jpg
END:VEVENT
BEGIN:VEVENT
DTSTART;TZID=Asia/Hong_Kong:20240916T080000
DTEND;TZID=Asia/Hong_Kong:20240916T170000
DTSTAMP:20260420T101733
CREATED:20240916T134014Z
LAST-MODIFIED:20240916T134014Z
UID:21124-1726473600-1726506000@memoshk.com
SUMMARY:「相簿」 SC2024Autumn 鴉 4rt works 同人TCG周邊
DESCRIPTION:
URL:https://memoshk.com/event/e2408264/
CATEGORIES:EVENTS資訊,同人賣場
ATTACH;FMTTYPE=image/jpeg:https://memoshk.com/wp-content/uploads/2024/09/GXblxEjbwAEFGGh.jpg
END:VEVENT
BEGIN:VEVENT
DTSTART;TZID=Asia/Hong_Kong:20240913T080000
DTEND;TZID=Asia/Hong_Kong:20240913T170000
DTSTAMP:20260420T101733
CREATED:20240913T124331Z
LAST-MODIFIED:20240918T121324Z
UID:21099-1726214400-1726246800@memoshk.com
SUMMARY:「相簿」 SC2024Autumn 混沌の女神様 同人TCG周邊
DESCRIPTION:
URL:https://memoshk.com/event/e2408263/
CATEGORIES:EVENTS資訊,同人賣場
ATTACH;FMTTYPE=image/jpeg:https://memoshk.com/wp-content/uploads/2024/09/007-1.jpg
END:VEVENT
BEGIN:VEVENT
DTSTART;TZID=Asia/Hong_Kong:20240913T080000
DTEND;TZID=Asia/Hong_Kong:20240913T170000
DTSTAMP:20260420T101733
CREATED:20240913T074915Z
LAST-MODIFIED:20240913T074915Z
UID:21084-1726214400-1726246800@memoshk.com
SUMMARY:「相簿」 SC2024Autumn 星之色 （ほしいろ） 同人TCG周邊
DESCRIPTION:
URL:https://memoshk.com/event/e2408262/
ATTACH;FMTTYPE=image/jpeg:https://memoshk.com/wp-content/uploads/2024/09/003-1-scaled.jpg
END:VEVENT
BEGIN:VEVENT
DTSTART;TZID=Asia/Hong_Kong:20240826T080000
DTEND;TZID=Asia/Hong_Kong:20240826T170000
DTSTAMP:20260420T101733
CREATED:20240826T143435Z
LAST-MODIFIED:20240913T073536Z
UID:20861-1724659200-1724691600@memoshk.com
SUMMARY:「相簿」 SC2024Autumn EATOS 同人TCG周邊
DESCRIPTION:        
URL:https://memoshk.com/event/e2408261/
CATEGORIES:EVENTS資訊,同人賣場
ATTACH;FMTTYPE=image/jpeg:https://memoshk.com/wp-content/uploads/2024/08/002-2-scaled.jpg
END:VEVENT
BEGIN:VEVENT
DTSTART;TZID=Asia/Hong_Kong:20240808T080000
DTEND;TZID=Asia/Hong_Kong:20240808T170000
DTSTAMP:20260420T101733
CREATED:20240808T052553Z
LAST-MODIFIED:20240808T084056Z
UID:20759-1723104000-1723136400@memoshk.com
SUMMARY:「相簿」C104 同人TCG周邊 (其他)
DESCRIPTION:
URL:https://memoshk.com/event/e24072018/
CATEGORIES:EVENTS資訊,同人賣場
END:VEVENT
BEGIN:VEVENT
DTSTART;TZID=Asia/Hong_Kong:20240808T080000
DTEND;TZID=Asia/Hong_Kong:20240808T170000
DTSTAMP:20260420T101733
CREATED:20240808T044341Z
LAST-MODIFIED:20240808T052436Z
UID:20742-1723104000-1723136400@memoshk.com
SUMMARY:「相簿」C104 ぴらるーく 同人TCG周邊
DESCRIPTION:
URL:https://memoshk.com/event/e24072017/
CATEGORIES:EVENTS資訊,同人賣場
END:VEVENT
BEGIN:VEVENT
DTSTART;TZID=Asia/Hong_Kong:20240805T080000
DTEND;TZID=Asia/Hong_Kong:20240805T170000
DTSTAMP:20260420T101733
CREATED:20240805T061917Z
LAST-MODIFIED:20240805T061917Z
UID:20697-1722844800-1722877200@memoshk.com
SUMMARY:「相簿」C104 SIDEREAL 同人TCG周邊
DESCRIPTION:
URL:https://memoshk.com/event/e24072016/
CATEGORIES:EVENTS資訊,同人賣場
END:VEVENT
BEGIN:VEVENT
DTSTART;TZID=Asia/Hong_Kong:20240802T080000
DTEND;TZID=Asia/Hong_Kong:20240802T170000
DTSTAMP:20260420T101733
CREATED:20240802T140625Z
LAST-MODIFIED:20240802T140625Z
UID:20558-1722585600-1722618000@memoshk.com
SUMMARY:「相簿」C104 路地裏同盟 同人TCG周邊
DESCRIPTION:
URL:https://memoshk.com/event/e24072015/
CATEGORIES:EVENTS資訊,同人賣場
END:VEVENT
BEGIN:VEVENT
DTSTART;TZID=Asia/Hong_Kong:20240802T080000
DTEND;TZID=Asia/Hong_Kong:20240802T170000
DTSTAMP:20260420T101733
CREATED:20240802T095721Z
LAST-MODIFIED:20240803T094208Z
UID:20534-1722585600-1722618000@memoshk.com
SUMMARY:「相簿」C104 鴉 4rt works 同人TCG周邊
DESCRIPTION:
URL:https://memoshk.com/event/e24072014/
CATEGORIES:EVENTS資訊,同人賣場
END:VEVENT
BEGIN:VEVENT
DTSTART;TZID=Asia/Hong_Kong:20240802T080000
DTEND;TZID=Asia/Hong_Kong:20240802T170000
DTSTAMP:20260420T101733
CREATED:20240802T095538Z
LAST-MODIFIED:20240803T094054Z
UID:20526-1722585600-1722618000@memoshk.com
SUMMARY:「相簿」C104 クラスター＆フレシア 同人TCG周邊
DESCRIPTION:
URL:https://memoshk.com/event/e24072013/
CATEGORIES:EVENTS資訊,同人賣場
END:VEVENT
BEGIN:VEVENT
DTSTART;TZID=Asia/Hong_Kong:20240801T080000
DTEND;TZID=Asia/Hong_Kong:20240801T170000
DTSTAMP:20260420T101733
CREATED:20240731T182518Z
LAST-MODIFIED:20240808T121912Z
UID:20427-1722499200-1722531600@memoshk.com
SUMMARY:「相簿」C104 サンパン＆Cake Rabbits 同人TCG周邊
DESCRIPTION:
URL:https://memoshk.com/event/e24072012/
CATEGORIES:EVENTS資訊,同人賣場
END:VEVENT
END:VCALENDAR