BEGIN:VCALENDAR
VERSION:2.0
PRODID:-//MemosHK - ECPv6.15.15//NONSGML v1.0//EN
CALSCALE:GREGORIAN
METHOD:PUBLISH
X-WR-CALNAME:MemosHK
X-ORIGINAL-URL:https://memoshk.com
X-WR-CALDESC:MemosHK的活动
REFRESH-INTERVAL;VALUE=DURATION:PT1H
X-Robots-Tag:noindex
X-PUBLISHED-TTL:PT1H
BEGIN:VTIMEZONE
TZID:Asia/Hong_Kong
BEGIN:STANDARD
TZOFFSETFROM:+0800
TZOFFSETTO:+0800
TZNAME:HKT
DTSTART:20230101T000000
END:STANDARD
END:VTIMEZONE
BEGIN:VEVENT
DTSTART;TZID=Asia/Hong_Kong:20240913T080000
DTEND;TZID=Asia/Hong_Kong:20240913T170000
DTSTAMP:20260420T093330
CREATED:20240913T124331Z
LAST-MODIFIED:20240918T121324Z
UID:21099-1726214400-1726246800@memoshk.com
SUMMARY:「相簿」 SC2024Autumn 混沌の女神様 同人TCG周邊
DESCRIPTION:
URL:https://memoshk.com/event/e2408263/
CATEGORIES:EVENTS資訊,同人賣場
ATTACH;FMTTYPE=image/jpeg:https://memoshk.com/wp-content/uploads/2024/09/007-1.jpg
END:VEVENT
BEGIN:VEVENT
DTSTART;TZID=Asia/Hong_Kong:20240913T080000
DTEND;TZID=Asia/Hong_Kong:20240913T170000
DTSTAMP:20260420T093330
CREATED:20240913T074915Z
LAST-MODIFIED:20240913T074915Z
UID:21084-1726214400-1726246800@memoshk.com
SUMMARY:「相簿」 SC2024Autumn 星之色 （ほしいろ） 同人TCG周邊
DESCRIPTION:
URL:https://memoshk.com/event/e2408262/
ATTACH;FMTTYPE=image/jpeg:https://memoshk.com/wp-content/uploads/2024/09/003-1-scaled.jpg
END:VEVENT
BEGIN:VEVENT
DTSTART;TZID=Asia/Hong_Kong:20240826T080000
DTEND;TZID=Asia/Hong_Kong:20240826T170000
DTSTAMP:20260420T093330
CREATED:20240826T143435Z
LAST-MODIFIED:20240913T073536Z
UID:20861-1724659200-1724691600@memoshk.com
SUMMARY:「相簿」 SC2024Autumn EATOS 同人TCG周邊
DESCRIPTION:        
URL:https://memoshk.com/event/e2408261/
CATEGORIES:EVENTS資訊,同人賣場
ATTACH;FMTTYPE=image/jpeg:https://memoshk.com/wp-content/uploads/2024/08/002-2-scaled.jpg
END:VEVENT
BEGIN:VEVENT
DTSTART;TZID=Asia/Hong_Kong:20240808T080000
DTEND;TZID=Asia/Hong_Kong:20240808T170000
DTSTAMP:20260420T093330
CREATED:20240808T052553Z
LAST-MODIFIED:20240808T084056Z
UID:20759-1723104000-1723136400@memoshk.com
SUMMARY:「相簿」C104 同人TCG周邊 (其他)
DESCRIPTION:
URL:https://memoshk.com/event/e24072018/
CATEGORIES:EVENTS資訊,同人賣場
END:VEVENT
BEGIN:VEVENT
DTSTART;TZID=Asia/Hong_Kong:20240808T080000
DTEND;TZID=Asia/Hong_Kong:20240808T170000
DTSTAMP:20260420T093330
CREATED:20240808T044341Z
LAST-MODIFIED:20240808T052436Z
UID:20742-1723104000-1723136400@memoshk.com
SUMMARY:「相簿」C104 ぴらるーく 同人TCG周邊
DESCRIPTION:
URL:https://memoshk.com/event/e24072017/
CATEGORIES:EVENTS資訊,同人賣場
END:VEVENT
BEGIN:VEVENT
DTSTART;TZID=Asia/Hong_Kong:20240805T080000
DTEND;TZID=Asia/Hong_Kong:20240805T170000
DTSTAMP:20260420T093330
CREATED:20240805T061917Z
LAST-MODIFIED:20240805T061917Z
UID:20697-1722844800-1722877200@memoshk.com
SUMMARY:「相簿」C104 SIDEREAL 同人TCG周邊
DESCRIPTION:
URL:https://memoshk.com/event/e24072016/
CATEGORIES:EVENTS資訊,同人賣場
END:VEVENT
BEGIN:VEVENT
DTSTART;TZID=Asia/Hong_Kong:20240802T080000
DTEND;TZID=Asia/Hong_Kong:20240802T170000
DTSTAMP:20260420T093330
CREATED:20240802T140625Z
LAST-MODIFIED:20240802T140625Z
UID:20558-1722585600-1722618000@memoshk.com
SUMMARY:「相簿」C104 路地裏同盟 同人TCG周邊
DESCRIPTION:
URL:https://memoshk.com/event/e24072015/
CATEGORIES:EVENTS資訊,同人賣場
END:VEVENT
BEGIN:VEVENT
DTSTART;TZID=Asia/Hong_Kong:20240802T080000
DTEND;TZID=Asia/Hong_Kong:20240802T170000
DTSTAMP:20260420T093330
CREATED:20240802T095721Z
LAST-MODIFIED:20240803T094208Z
UID:20534-1722585600-1722618000@memoshk.com
SUMMARY:「相簿」C104 鴉 4rt works 同人TCG周邊
DESCRIPTION:
URL:https://memoshk.com/event/e24072014/
CATEGORIES:EVENTS資訊,同人賣場
END:VEVENT
BEGIN:VEVENT
DTSTART;TZID=Asia/Hong_Kong:20240802T080000
DTEND;TZID=Asia/Hong_Kong:20240802T170000
DTSTAMP:20260420T093330
CREATED:20240802T095538Z
LAST-MODIFIED:20240803T094054Z
UID:20526-1722585600-1722618000@memoshk.com
SUMMARY:「相簿」C104 クラスター＆フレシア 同人TCG周邊
DESCRIPTION:
URL:https://memoshk.com/event/e24072013/
CATEGORIES:EVENTS資訊,同人賣場
END:VEVENT
BEGIN:VEVENT
DTSTART;TZID=Asia/Hong_Kong:20240801T080000
DTEND;TZID=Asia/Hong_Kong:20240801T170000
DTSTAMP:20260420T093330
CREATED:20240731T182518Z
LAST-MODIFIED:20240808T121912Z
UID:20427-1722499200-1722531600@memoshk.com
SUMMARY:「相簿」C104 サンパン＆Cake Rabbits 同人TCG周邊
DESCRIPTION:
URL:https://memoshk.com/event/e24072012/
CATEGORIES:EVENTS資訊,同人賣場
END:VEVENT
BEGIN:VEVENT
DTSTART;TZID=Asia/Hong_Kong:20240801T080000
DTEND;TZID=Asia/Hong_Kong:20240801T170000
DTSTAMP:20260420T093330
CREATED:20240731T182048Z
LAST-MODIFIED:20240802T093351Z
UID:20409-1722499200-1722531600@memoshk.com
SUMMARY:「相簿」C104 アクアアルタ 同人TCG周邊
DESCRIPTION:‘
URL:https://memoshk.com/event/e24072011/
CATEGORIES:EVENTS資訊,同人賣場
END:VEVENT
BEGIN:VEVENT
DTSTART;TZID=Asia/Hong_Kong:20240801T080000
DTEND;TZID=Asia/Hong_Kong:20240801T170000
DTSTAMP:20260420T093330
CREATED:20240731T181845Z
LAST-MODIFIED:20240802T115659Z
UID:20387-1722499200-1722531600@memoshk.com
SUMMARY:「相簿」C104 未確認スリーブ 同人TCG周邊
DESCRIPTION:
URL:https://memoshk.com/event/e24072010/
CATEGORIES:EVENTS資訊,同人賣場
END:VEVENT
BEGIN:VEVENT
DTSTART;TZID=Asia/Hong_Kong:20240801T080000
DTEND;TZID=Asia/Hong_Kong:20240801T170000
DTSTAMP:20260420T093330
CREATED:20240731T181624Z
LAST-MODIFIED:20240802T115728Z
UID:20369-1722499200-1722531600@memoshk.com
SUMMARY:「相簿」C104 逸遊団 同人TCG周邊
DESCRIPTION:
URL:https://memoshk.com/event/e24072009/
CATEGORIES:EVENTS資訊,同人賣場
END:VEVENT
BEGIN:VEVENT
DTSTART;TZID=Asia/Hong_Kong:20240801T080000
DTEND;TZID=Asia/Hong_Kong:20240801T170000
DTSTAMP:20260420T093330
CREATED:20240731T181106Z
LAST-MODIFIED:20240807T092346Z
UID:20350-1722499200-1722531600@memoshk.com
SUMMARY:「相簿」C104 ぱる家 同人TCG周邊
DESCRIPTION:
URL:https://memoshk.com/event/e24072008/
CATEGORIES:EVENTS資訊,同人賣場
END:VEVENT
BEGIN:VEVENT
DTSTART;TZID=Asia/Hong_Kong:20240801T080000
DTEND;TZID=Asia/Hong_Kong:20240801T170000
DTSTAMP:20260420T093330
CREATED:20240731T180924Z
LAST-MODIFIED:20240805T133329Z
UID:20293-1722499200-1722531600@memoshk.com
SUMMARY:「相簿」C104 白詰草 同人TCG周邊
DESCRIPTION:
URL:https://memoshk.com/event/e24072007/
CATEGORIES:EVENTS資訊,同人賣場
END:VEVENT
BEGIN:VEVENT
DTSTART;TZID=Asia/Hong_Kong:20240801T080000
DTEND;TZID=Asia/Hong_Kong:20240801T170000
DTSTAMP:20260420T093330
CREATED:20240731T180333Z
LAST-MODIFIED:20240807T155233Z
UID:20279-1722499200-1722531600@memoshk.com
SUMMARY:「相簿」C104 Scarlet Agents 同人TCG周邊
DESCRIPTION:
URL:https://memoshk.com/event/e24072006/
CATEGORIES:EVENTS資訊,同人賣場
END:VEVENT
BEGIN:VEVENT
DTSTART;TZID=Asia/Hong_Kong:20240801T080000
DTEND;TZID=Asia/Hong_Kong:20240801T170000
DTSTAMP:20260420T093330
CREATED:20240731T180145Z
LAST-MODIFIED:20240803T091825Z
UID:20229-1722499200-1722531600@memoshk.com
SUMMARY:「相簿」C104 ミッドナイトブルー 同人TCG周邊
DESCRIPTION: 
URL:https://memoshk.com/event/e24072005/
CATEGORIES:EVENTS資訊,同人賣場
END:VEVENT
BEGIN:VEVENT
DTSTART;TZID=Asia/Hong_Kong:20240801T080000
DTEND;TZID=Asia/Hong_Kong:20240801T170000
DTSTAMP:20260420T093330
CREATED:20240731T175258Z
LAST-MODIFIED:20240804T112624Z
UID:20166-1722499200-1722531600@memoshk.com
SUMMARY:「相簿」C104 混沌の女神様 同人TCG周邊
DESCRIPTION:
URL:https://memoshk.com/event/e24072004/
CATEGORIES:EVENTS資訊,同人賣場
END:VEVENT
BEGIN:VEVENT
DTSTART;TZID=Asia/Hong_Kong:20240727T080000
DTEND;TZID=Asia/Hong_Kong:20240727T170000
DTSTAMP:20260420T093330
CREATED:20240727T064937Z
LAST-MODIFIED:20240727T064937Z
UID:20134-1722067200-1722099600@memoshk.com
SUMMARY:「相簿」C104 ほしいろ 同人TCG周邊
DESCRIPTION:
URL:https://memoshk.com/event/e24072003/
CATEGORIES:EVENTS資訊,同人賣場
END:VEVENT
BEGIN:VEVENT
DTSTART;TZID=Asia/Hong_Kong:20240727T080000
DTEND;TZID=Asia/Hong_Kong:20240727T170000
DTSTAMP:20260420T093330
CREATED:20240727T063411Z
LAST-MODIFIED:20240727T064523Z
UID:20113-1722067200-1722099600@memoshk.com
SUMMARY:「相簿」C104 夢現工房 同人TCG周邊
DESCRIPTION:
URL:https://memoshk.com/event/e24072002/
CATEGORIES:EVENTS資訊,同人賣場
END:VEVENT
BEGIN:VEVENT
DTSTART;TZID=Asia/Hong_Kong:20240720T080000
DTEND;TZID=Asia/Hong_Kong:20240720T170000
DTSTAMP:20260420T093330
CREATED:20240719T192513Z
LAST-MODIFIED:20240727T070312Z
UID:20013-1721462400-1721494800@memoshk.com
SUMMARY:「相簿」C104 EATOS 同人TCG周邊
DESCRIPTION:
URL:https://memoshk.com/event/e24072001/
CATEGORIES:EVENTS資訊,同人賣場
END:VEVENT
BEGIN:VEVENT
DTSTART;TZID=Asia/Hong_Kong:20240626T080000
DTEND;TZID=Asia/Hong_Kong:20240626T170000
DTSTAMP:20260420T093330
CREATED:20240625T165413Z
LAST-MODIFIED:20240626T150215Z
UID:19836-1719388800-1719421200@memoshk.com
SUMMARY:「相簿」SC2024Summer サンパン＆Cake Rabbits 同人TCG周邊
DESCRIPTION:
URL:https://memoshk.com/event/e24060408/
CATEGORIES:EVENTS資訊,同人賣場
END:VEVENT
BEGIN:VEVENT
DTSTART;TZID=Asia/Hong_Kong:20240625T080000
DTEND;TZID=Asia/Hong_Kong:20240625T170000
DTSTAMP:20260420T093330
CREATED:20240625T085057Z
LAST-MODIFIED:20240625T085828Z
UID:19801-1719302400-1719334800@memoshk.com
SUMMARY:「相簿」SC2024Summer 鴉 4rt works 同人TCG周邊
DESCRIPTION:
URL:https://memoshk.com/event/e24060407/
CATEGORIES:EVENTS資訊,同人賣場
END:VEVENT
BEGIN:VEVENT
DTSTART;TZID=Asia/Hong_Kong:20240625T080000
DTEND;TZID=Asia/Hong_Kong:20240625T170000
DTSTAMP:20260420T093330
CREATED:20240625T084939Z
LAST-MODIFIED:20240626T150243Z
UID:19759-1719302400-1719334800@memoshk.com
SUMMARY:「相簿」SC2024Summer 白詰草 同人TCG周邊
DESCRIPTION:
URL:https://memoshk.com/event/e24060406/
CATEGORIES:EVENTS資訊,同人賣場
END:VEVENT
BEGIN:VEVENT
DTSTART;TZID=Asia/Hong_Kong:20240623T080000
DTEND;TZID=Asia/Hong_Kong:20240623T170000
DTSTAMP:20260420T093330
CREATED:20240623T045755Z
LAST-MODIFIED:20240627T051830Z
UID:19696-1719129600-1719162000@memoshk.com
SUMMARY:「相簿」SC2024Summer Scarlet Agents 同人TCG周邊
DESCRIPTION:
URL:https://memoshk.com/event/e24060405/
CATEGORIES:EVENTS資訊,同人賣場
END:VEVENT
BEGIN:VEVENT
DTSTART;TZID=Asia/Hong_Kong:20240623T080000
DTEND;TZID=Asia/Hong_Kong:20240623T170000
DTSTAMP:20260420T093330
CREATED:20240623T045514Z
LAST-MODIFIED:20240623T120455Z
UID:19681-1719129600-1719162000@memoshk.com
SUMMARY:「相簿」SC2024Summer ミッドナイトブルー 同人TCG周邊
DESCRIPTION:
URL:https://memoshk.com/event/e24060404/
CATEGORIES:EVENTS資訊,同人賣場
END:VEVENT
BEGIN:VEVENT
DTSTART;TZID=Asia/Hong_Kong:20240623T080000
DTEND;TZID=Asia/Hong_Kong:20240623T170000
DTSTAMP:20260420T093330
CREATED:20240623T045305Z
LAST-MODIFIED:20240623T112405Z
UID:19646-1719129600-1719162000@memoshk.com
SUMMARY:「相簿」SC2024Summer 混沌の女神様 同人TCG周邊
DESCRIPTION:
URL:https://memoshk.com/event/e24060403/
CATEGORIES:EVENTS資訊,同人賣場
END:VEVENT
BEGIN:VEVENT
DTSTART;TZID=Asia/Hong_Kong:20240622T080000
DTEND;TZID=Asia/Hong_Kong:20240622T170000
DTSTAMP:20260420T093330
CREATED:20240622T025303Z
LAST-MODIFIED:20240622T025303Z
UID:19633-1719043200-1719075600@memoshk.com
SUMMARY:「相簿」SC2024Summer ほしいろ 同人TCG周邊
DESCRIPTION:
URL:https://memoshk.com/event/e24060402/
CATEGORIES:EVENTS資訊,同人賣場
END:VEVENT
BEGIN:VEVENT
DTSTART;TZID=Asia/Hong_Kong:20240604T080000
DTEND;TZID=Asia/Hong_Kong:20240604T170000
DTSTAMP:20260420T093330
CREATED:20240604T073047Z
LAST-MODIFIED:20240604T073118Z
UID:19402-1717488000-1717520400@memoshk.com
SUMMARY:「相簿」SC2024Summer EATOS 同人TCG周邊
DESCRIPTION:
URL:https://memoshk.com/event/e24060401/
CATEGORIES:EVENTS資訊,同人賣場
END:VEVENT
BEGIN:VEVENT
DTSTART;TZID=Asia/Hong_Kong:20240515T080000
DTEND;TZID=Asia/Hong_Kong:20240515T170000
DTSTAMP:20260420T093330
CREATED:20240515T070106Z
LAST-MODIFIED:20250328T042736Z
UID:19249-1715760000-1715792400@memoshk.com
SUMMARY:(9月11日更新)搬倉清貨\, 不定期更新
DESCRIPTION:ハコス・ベールズ 活動2周年記念 フルセット数量限定ver. $980 hold \n \n七詩ムメイ 誕生日記念2023 フルセット数量限定ver. $1800 (1) \n七詩ムメイ 誕生日記念2023 Tote-ally Friend (バッグ) $320 @1 (5) \n \nときのそら 活動6周年記念 フルセット $1500 (1) \n \n白銀ノエル 活動4周年記念 フルセット $680 (1) \n白銀ノエル 活動4周年記念 白銀聖騎士団の団員証 $120 @1 (1) \n白銀ノエル 活動4周年記念 ラバーマット $200 @1 (2) \n白銀ノエル 活動4周年記念 団員さん♡ぬいぐるみキーホルダーver.2023 $160 @1 (1) \n \n大神ミオ 誕生日記念2023 フルセット $500 (1) \n \n  \n \n  \n \nラプラス・ダークネス 誕生日記念2023 フルセット $520 (1) \n \n宝鐘マリン おっぱいマウスパッド 社長ver. $340 (1) \n \n宝鐘マリン 200万人記念 フルセット $900 (1) \n宝鐘マリン 200万人記念 宝鐘海賊カンパニー社員証 $120 @1 (3) \n宝鐘マリン 200万人記念 IDカードホルダー $220 @1 (2) \n \n宝鐘マリン 200万人記念 フルセット 数量限定ver. $1100 hold \n \n天音かなた アクリルキーホルダー $240 (1) \n \n雪花ラミィ 誕生日記念グッズ2022 3連結アクリルキーホルダー $200 @1 (3) \n \n博衣こより 活動1周年記念 フルセット $800 @1 (7)\n博衣こより 活動1周年記念 エコバッグ $100 (5)\n博衣こより 活動1周年記念 リングネックレス $420 @1 (6) \n \n常闇トワ 100万人記念 フルセット 数量限定ver. $2300 (1)\n常闇トワ 100万人記念 アクリルパネル $230 hold\n常闇トワ 100万人記念 ビビぬいぐるみ $540 @1 (1)\n常闇トワ 100万人記念 ピンバッジ（5種入り） $300 @1 (7) \n \n常闇トワ 100万人記念 フルセット $2000 (1) \n \nセラフ $700 @1 (2) \n \nAlban $950 @1 (2) \n \nsold \n \n沙花叉クロヱ 誕生日記念2023 飼育証明書 $100 @1 (3) \n \n沙花叉クロヱ 誕生日記念2023 フルセット $480 @1 (2) \n \nアキ・ローゼンタール 活動4周年記念 フルセット $540 (1) \n \n小鳥遊キアラ 誕生日記念2022 マグネットセット $200 @1 (2) \n \n叶 夜明かし イヤーカフ $260 @1 (2) \n \n甲斐田晴 $300 @1 (2) \n \n葛葉 $300 @1 (2) \n \nぽいずにゃ〜しんどろーむ ロゴラバーキーホルダー $100 @1 (4)\nぽいずにゃ〜しんどろーむ アクリルスタンド $200 @1 (4) \n \n沙花叉クロヱ 誕生日記念2022 アクリルジオラマスタンド $180 @1 (5) \n \n沙花叉クロヱ 誕生日記念2022 フルセット $680 @1 hold \n \nこぼ・かなえる 誕生日記念2022 $420 (2) \n \n沙花叉クロヱ 活動2周年記念 サコッシュ $180 @1 (2) \n \n常闇トワ 活動4周年記念 フルセット $540 hold \n \n沙花叉クロヱ 活動2周年記念 アクリルスタンド $160 @1 (2) \n \nねんどろいど 一伊那尓栖 $320 @1 (1) \n \n星街すいせい 2ndアルバム『Specter』 エムカード つき $240 @1 (5) \n \n桜ミク 江戸切子グラス (未開封\, 連立牌和明信片) $2600 (2) \n \n星街すいせい 牛角 アクリルスタンド $100 hold \n \n星街すいせい 牛角 焼肉皿 $150 @1 hold \n \n星街すいせい 牛角 ジョッキ $250 sold \n \n星街すいせい 牛角 T-shirt(L) $280 @1 (2) \n \nIna Takodachi ラーメンストッパー 「Let’s TAKO a break」 $240 @1 (6) \n \nWatson 探偵の帽子 $300 @1 (2)\nKiara 激熱フェニックス サーモボトル＆ボトルケースセット$300 @1 hold\nMori ペンダント&アクセサリースタンドセット $300 @1 (2) \n \nGura ぐらショルダーバッグ $600 @1 (4) \n \nサンシャイン水族館 x 雪花ラミィ アクアラミィウム 等身アクリルスタンドA $120 @1 (3) \nサンシャイン水族館 x 雪花ラミィ アクアラミィウム 等身アクリルスタンドB $120 hold \n \nサンシャイン水族館 x 雪花ラミィ アクアラミィウム \n \nサンシャイン水族館 x 雪花ラミィ アクアラミィウム アイスキューブ $160 @1 (5) \n \nねんどろいど 宝鐘マリン $280 (2) \n \nhololive ERROR SP Set $350 (4) \n \n星街家の辛口トマトカレー hold \n \nさくら家の濃厚シチュー $60 @1 hold \n \nPOP UP PARADE hololive Gawr Gura $280 @1 hold \n \n猫又おかゆ 誕生日記念2022 お茶碗 $160 (3) \n \nfigma Mori Calliope $420 (3) \n \nふんばるず SPY×FAMILY キメラさん $200 (1) \n \n  \n \n$260 @1 \n \nかざま隊証明書 $110 @1 (1) \n \n  \n \n沙花叉クロヱ 100万人記念 $1300 hold \n \nEnna Alouette エナー・アールウェット 誕生日グッズ 2023 $600 (2) \n \nhololive English -Council- x TSUKUMO アクリルスタンド $950 (@5款各1) (2) \n \nオーロ・クロニー 新衣装記念2022 キーホルダー $140 @1 (4) \n \n夜空メル relax time $90 hold \n \nhololive English -Council- x TSUKUMO $400 (1) \n \nThe Reversible ToteRyS $240 @1 (4) \n \nThe Belt KeyholdeRyS & Friends $200 @1 (5) \n \nサンシャイン水族館 x 雪花ラミィ アクアラミィウム チケット風アクリルカード $150 (1) \n \n鳴門鯛焼本舗 さくらみこ $100 @1 (1) \n \n鳴門鯛焼本舗 さくらみこ ポーチ $190 @1 (2) \n \n鳴門鯛焼本舗 さくらみこ たい焼きver $90 @1 (1) \n鳴門鯛焼本舗 さくらみこ 衣装A $90 @1 (1) \n鳴門鯛焼本舗 さくらみこ 衣装B $90 @1 (1) \n \n雪ミク 江戸切子グラス 花浅葱色 $2400 (1) \n雪ミク 江戸切子グラス 薄瑠璃色 $2400 (1) \n \nこぼ かなえる 誕生日記念2023 $900 (1) \n \nhololive IF -Relax time- 星街すいせい $160 hold \n \nスーパーアイドル☆コメットちゃん デビューシングル「スイちゃんのメンテナンスソング」 $150 @1 hold \n \n雪夜月 Season 3 Favorite Model 720ml (*無盒) $490 @1 hold \n \n雪夜月Season4 Favorite Celebration Model 1.8L $1200 @1 hold \n \n理系兄弟 No.54 $650 @1 (1) \n \n【九尾】Flora~Osmanthus~ $650 @1 hold \n【九尾】Flora～Lilium～ $380 @1 (1) \n \nksonコラボ日本酒「純米大吟醸 初代総長」 $520 @1 (2) \n \nNACHONEKO抱き枕カバー $1500 @1 (1) \n \nねんどろいど 飴宮なずな【特典付き】 $420 @1 (1) \n  \nホロライブEnglish バレンタインデー2023セット ハコス・ベールズ $420 @1 hold \nホロライブEnglish バレンタインデー2023セット がうる・ぐら $400 @1 (1) \n  \n一伊那尓栖 誕生日記念2023 「きタコれ！」リュック $380 @1 (4) \n一伊那尓栖 誕生日記念2023 「違う、本じゃない」ポーチ $300 @1 hold \n  \n胡桃のあ 誕生日記念2024 モバイルバッテリー $380 @1 hold \n胡桃のあ 誕生日記念2024 衣装モチーフアクリルキーホルダー $90 @1 hold \n  \n藍沢エマ 誕生日記念2024 複製箔押しサイン入りポストカード $190 @1 (1) \n藍沢エマ 誕生日記念2024 アクリルブロック $250 hold \n  \n神成きゅぴ 3周年記念 缶バッジ＆アクリルキーホルダーセット $100 @1 (1) \n神成きゅぴ 3周年記念 複製箔押しサイン入りポストカード $190 hold \n \nHACHI 誕生日グッズ2024 $750 @1 (1) \n \n桐生ココ 桐生会 ピンバッチ $60 @1 (8) \n \n秘密結社holoXピンバッジ $100 @1 (3) \n \n紫咲シオン 誕生日記念2022 塩っ子証明書 $250 @1 (1) \n紫咲シオン 誕生日記念2022 君の隣♡BIGアクリルスタンド $290 @1 (2) \n \nAZKi 活動5周年記念フルセット $950 @1 hold \n \n兎田ぺこら 200万人記念フルセット 数量限定ver. $950 @1 (4) \n \n獅白ぼたん 誕生日記念2023 「麺屋ぼたん」どんぶり＆茶碗セット $400 @1 (2) \n獅白ぼたん 誕生日記念2023 「麺屋ぼたん」プラコップ $120 @1 (2) \n \nPalVerse Palé. NIJISANJI EN LazuLight & Noctyx Alban $150 @1 (1) \nPalVerse Palé. NIJISANJI EN LazuLight & Noctyx Finana $150 @1 (1) \n \nhololive English Pin Badge Set $180 @1 (4) \n \nBloop ぬいぐるみ hold \nBubba ぬいぐるみ $220 @1 (1) \nTakodachi ぬいぐるみ hold \n \n兎田ぺこら 活動二周年記念 フルセット hold \n \nhololive English COLLABORATION HISTORY 缶バッジ5種セット hold \nhololive English COLLABORATION HISTORY ラバーキーホルダー (Gura) $80 @1 (1) \nhololive English COLLABORATION HISTORY ラバーキーホルダー (Ina) $80 @1 (1) \n \n尾丸ポルカ 「ポルカの伝説」1周年記念 アクリルスイングキーホルダー hold \n \n赤井はあと 誕生日記念2021 フルセット 数量限定ver. hold \n \nフレンド ぬいぐるみ $500 @1 (1) \n \n根夢 ぬいぐるみ $450 @1 (1) \nヤタガラス ぬいぐるみ $250 @1 (1) \n \n湊あくあ NEKO BIGぬいぐるみ hold \n \nクソダサビッグシルエットTシャツ「余だよ」デザイン（ホワイト） hold \n \nぽよ余ぬいぐるみクッション hold \n \n猫又おかゆ 誕生日記念2022 アクリルスタンド＆お茶碗 $90 @1 (3) \n \nミテイルBIGぬいぐるみ $1100 @1 (1) \n \nTOYGER CEO Storage $680 hold \n \n$100 (1) \n \n不破湊 誕生日グッズ 2023 $300 @1 (2) \n \nでびでび・でびる ぬいぐるみ $180 @1 (2) \n \nLuca Kaneshiro 誕生日グッズ 2023 $400 @1 (1) \n \n兎田ぺこら 活動4周年記念 フルセット 数量限定ver. hold \n \n桃鈴ねね 活動3周年記念 フルセット 数量限定ver. hold \n  \n『根據香港法律，不得在業務過程中，向未成年人售賣或供應令人醺醉的酒類。』 Under the law of Hong Kong\, intoxicating liquor must not be sold or supplied to a minor in the course of business. \n  \n*特價商品不附有額外積分
URL:https://memoshk.com/event/e240515/
CATEGORIES:商品資訊,週邊商品
ATTACH;FMTTYPE=image/png:https://memoshk.com/wp-content/uploads/2024/05/655.png
END:VEVENT
END:VCALENDAR