BEGIN:VCALENDAR
VERSION:2.0
PRODID:-//MemosHK - ECPv6.15.15//NONSGML v1.0//EN
CALSCALE:GREGORIAN
METHOD:PUBLISH
X-WR-CALNAME:MemosHK
X-ORIGINAL-URL:https://memoshk.com
X-WR-CALDESC:MemosHK的活动
REFRESH-INTERVAL;VALUE=DURATION:PT1H
X-Robots-Tag:noindex
X-PUBLISHED-TTL:PT1H
BEGIN:VTIMEZONE
TZID:Asia/Hong_Kong
BEGIN:STANDARD
TZOFFSETFROM:+0800
TZOFFSETTO:+0800
TZNAME:HKT
DTSTART:20220101T000000
END:STANDARD
END:VTIMEZONE
BEGIN:VEVENT
DTSTART;TZID=Asia/Hong_Kong:20240425T080000
DTEND;TZID=Asia/Hong_Kong:20240425T170000
DTSTAMP:20260421T134946
CREATED:20240425T045321Z
LAST-MODIFIED:20240425T045321Z
UID:19073-1714032000-1714064400@memoshk.com
SUMMARY:「相簿」COMIC1☆24 ぴらるーく 同人TCG周邊
DESCRIPTION:
URL:https://memoshk.com/event/e24041612/
END:VEVENT
BEGIN:VEVENT
DTSTART;TZID=Asia/Hong_Kong:20240425T080000
DTEND;TZID=Asia/Hong_Kong:20240425T170000
DTSTAMP:20260421T134946
CREATED:20240425T045212Z
LAST-MODIFIED:20240425T045212Z
UID:19051-1714032000-1714064400@memoshk.com
SUMMARY:「相簿」COMIC1☆24 サンパン & Cake Rabbits 同人TCG周邊
DESCRIPTION:
URL:https://memoshk.com/event/e24041611/
CATEGORIES:EVENTS資訊,同人賣場
END:VEVENT
BEGIN:VEVENT
DTSTART;TZID=Asia/Hong_Kong:20240422T080000
DTEND;TZID=Asia/Hong_Kong:20240422T170000
DTSTAMP:20260421T134946
CREATED:20240422T063358Z
LAST-MODIFIED:20240422T063358Z
UID:18997-1713772800-1713805200@memoshk.com
SUMMARY:「相簿」COMIC1☆24 アクアアルタ 同人TCG周邊
DESCRIPTION:
URL:https://memoshk.com/event/e24041610/
CATEGORIES:EVENTS資訊,同人賣場
END:VEVENT
BEGIN:VEVENT
DTSTART;TZID=Asia/Hong_Kong:20240422T080000
DTEND;TZID=Asia/Hong_Kong:20240422T170000
DTSTAMP:20260421T134946
CREATED:20240422T062021Z
LAST-MODIFIED:20240422T063426Z
UID:18962-1713772800-1713805200@memoshk.com
SUMMARY:「相簿」COMIC1☆24 ほしいろ 同人TCG周邊
DESCRIPTION:
URL:https://memoshk.com/event/e24041609/
CATEGORIES:EVENTS資訊,同人賣場
END:VEVENT
BEGIN:VEVENT
DTSTART;TZID=Asia/Hong_Kong:20240422T080000
DTEND;TZID=Asia/Hong_Kong:20240422T170000
DTSTAMP:20260421T134946
CREATED:20240422T061620Z
LAST-MODIFIED:20240424T105921Z
UID:18948-1713772800-1713805200@memoshk.com
SUMMARY:「相簿」COMIC1☆24 混沌の女神様 同人TCG周邊
DESCRIPTION:
URL:https://memoshk.com/event/e24041608/
CATEGORIES:EVENTS資訊,同人賣場
END:VEVENT
BEGIN:VEVENT
DTSTART;TZID=Asia/Hong_Kong:20240422T080000
DTEND;TZID=Asia/Hong_Kong:20240422T170000
DTSTAMP:20260421T134946
CREATED:20240422T061433Z
LAST-MODIFIED:20240422T061433Z
UID:18941-1713772800-1713805200@memoshk.com
SUMMARY:「相簿」COMIC1☆24 ぱる家 同人TCG周邊
DESCRIPTION:
URL:https://memoshk.com/event/e24041607/
CATEGORIES:EVENTS資訊,同人賣場
END:VEVENT
BEGIN:VEVENT
DTSTART;TZID=Asia/Hong_Kong:20240422T080000
DTEND;TZID=Asia/Hong_Kong:20240422T170000
DTSTAMP:20260421T134946
CREATED:20240422T061107Z
LAST-MODIFIED:20240424T110002Z
UID:18921-1713772800-1713805200@memoshk.com
SUMMARY:「相簿」COMIC1☆24 ぱる家 同人TCG周邊
DESCRIPTION:
URL:https://memoshk.com/event/e24041606/
CATEGORIES:EVENTS資訊,同人賣場
END:VEVENT
BEGIN:VEVENT
DTSTART;TZID=Asia/Hong_Kong:20240419T080000
DTEND;TZID=Asia/Hong_Kong:20240419T170000
DTSTAMP:20260421T134946
CREATED:20240419T145814Z
LAST-MODIFIED:20240425T051419Z
UID:18833-1713513600-1713546000@memoshk.com
SUMMARY:「相簿」COMIC1☆24 白詰草 同人TCG周邊
DESCRIPTION:
URL:https://memoshk.com/event/e24041605/
CATEGORIES:EVENTS資訊,同人賣場
END:VEVENT
BEGIN:VEVENT
DTSTART;TZID=Asia/Hong_Kong:20240419T080000
DTEND;TZID=Asia/Hong_Kong:20240419T170000
DTSTAMP:20260421T134946
CREATED:20240419T090752Z
LAST-MODIFIED:20240419T145432Z
UID:18751-1713513600-1713546000@memoshk.com
SUMMARY:「相簿」COMIC1☆24 ミッドナイトブルー 同人TCG周邊
DESCRIPTION:
URL:https://memoshk.com/event/e24041604/
CATEGORIES:EVENTS資訊,同人賣場
END:VEVENT
BEGIN:VEVENT
DTSTART;TZID=Asia/Hong_Kong:20240419T080000
DTEND;TZID=Asia/Hong_Kong:20240419T170000
DTSTAMP:20260421T134946
CREATED:20240419T085523Z
LAST-MODIFIED:20240422T131029Z
UID:18745-1713513600-1713546000@memoshk.com
SUMMARY:「相簿」COMIC1☆24 鴉 4rt works 同人TCG周邊
DESCRIPTION:
URL:https://memoshk.com/event/e24041603/
CATEGORIES:EVENTS資訊,同人賣場
END:VEVENT
BEGIN:VEVENT
DTSTART;TZID=Asia/Hong_Kong:20240419T080000
DTEND;TZID=Asia/Hong_Kong:20240419T170000
DTSTAMP:20260421T134946
CREATED:20240419T085359Z
LAST-MODIFIED:20240424T134542Z
UID:18730-1713513600-1713546000@memoshk.com
SUMMARY:「相簿」COMIC1☆24 Scarlet Agents 同人TCG周邊
DESCRIPTION:
URL:https://memoshk.com/event/e24041602/
CATEGORIES:EVENTS資訊,同人賣場
END:VEVENT
BEGIN:VEVENT
DTSTART;TZID=Asia/Hong_Kong:20240416T080000
DTEND;TZID=Asia/Hong_Kong:20240416T170000
DTSTAMP:20260421T134946
CREATED:20240416T021306Z
LAST-MODIFIED:20240416T021306Z
UID:18662-1713254400-1713286800@memoshk.com
SUMMARY:「相簿」COMIC1☆24 EATOS 同人TCG周邊
DESCRIPTION:
URL:https://memoshk.com/event/e24041601/
CATEGORIES:EVENTS資訊,同人賣場
END:VEVENT
BEGIN:VEVENT
DTSTART;TZID=Asia/Hong_Kong:20240228T080000
DTEND;TZID=Asia/Hong_Kong:20240228T170000
DTSTAMP:20260421T134946
CREATED:20240228T061233Z
LAST-MODIFIED:20240228T061233Z
UID:18202-1709107200-1709139600@memoshk.com
SUMMARY:「相簿」SC2024Spring 鴉 4rt works 同人TCG周邊
DESCRIPTION:
URL:https://memoshk.com/event/e24020111/
CATEGORIES:EVENTS資訊,同人賣場
END:VEVENT
BEGIN:VEVENT
DTSTART;TZID=Asia/Hong_Kong:20240228T080000
DTEND;TZID=Asia/Hong_Kong:20240228T170000
DTSTAMP:20260421T134946
CREATED:20240228T060545Z
LAST-MODIFIED:20240228T060545Z
UID:18187-1709107200-1709139600@memoshk.com
SUMMARY:「相簿」SC2024Spring ぴらるーく 同人TCG周邊
DESCRIPTION:
URL:https://memoshk.com/event/e24020110/
CATEGORIES:EVENTS資訊,同人賣場
END:VEVENT
BEGIN:VEVENT
DTSTART;TZID=Asia/Hong_Kong:20240227T080000
DTEND;TZID=Asia/Hong_Kong:20240227T170000
DTSTAMP:20260421T134946
CREATED:20240226T170930Z
LAST-MODIFIED:20240228T060347Z
UID:18122-1709020800-1709053200@memoshk.com
SUMMARY:「相簿」SC2024Spring 逸遊団 同人TCG周邊
DESCRIPTION:
URL:https://memoshk.com/event/e24020109/
CATEGORIES:EVENTS資訊,同人賣場
END:VEVENT
BEGIN:VEVENT
DTSTART;TZID=Asia/Hong_Kong:20240227T080000
DTEND;TZID=Asia/Hong_Kong:20240227T170000
DTSTAMP:20260421T134946
CREATED:20240226T170807Z
LAST-MODIFIED:20240226T170807Z
UID:18110-1709020800-1709053200@memoshk.com
SUMMARY:「相簿」SC2024Spring サンパン & Cake Rabbits 同人TCG周邊
DESCRIPTION:
URL:https://memoshk.com/event/e24020108/
CATEGORIES:EVENTS資訊,同人賣場
END:VEVENT
BEGIN:VEVENT
DTSTART;TZID=Asia/Hong_Kong:20240227T080000
DTEND;TZID=Asia/Hong_Kong:20240227T170000
DTSTAMP:20260421T134946
CREATED:20240226T170618Z
LAST-MODIFIED:20240228T103127Z
UID:18093-1709020800-1709053200@memoshk.com
SUMMARY:「相簿」SC2024Spring 混沌の女神様 同人TCG周邊
DESCRIPTION:
URL:https://memoshk.com/event/e24020107/
CATEGORIES:EVENTS資訊,同人賣場
END:VEVENT
BEGIN:VEVENT
DTSTART;TZID=Asia/Hong_Kong:20240227T080000
DTEND;TZID=Asia/Hong_Kong:20240227T170000
DTSTAMP:20260421T134946
CREATED:20240226T164859Z
LAST-MODIFIED:20240226T164859Z
UID:18070-1709020800-1709053200@memoshk.com
SUMMARY:「相簿」SC2024Spring 白詰草 同人TCG周邊
DESCRIPTION:
URL:https://memoshk.com/event/e24020106/
CATEGORIES:EVENTS資訊,同人賣場
END:VEVENT
BEGIN:VEVENT
DTSTART;TZID=Asia/Hong_Kong:20240224T080000
DTEND;TZID=Asia/Hong_Kong:20240224T170000
DTSTAMP:20260421T134946
CREATED:20240224T032054Z
LAST-MODIFIED:20240224T105544Z
UID:18027-1708761600-1708794000@memoshk.com
SUMMARY:「相簿」SC2024Spring ミッドナイトブルー 同人TCG周邊
DESCRIPTION:
URL:https://memoshk.com/event/e24020104/
END:VEVENT
BEGIN:VEVENT
DTSTART;TZID=Asia/Hong_Kong:20240224T080000
DTEND;TZID=Asia/Hong_Kong:20240224T170000
DTSTAMP:20260421T134946
CREATED:20240224T024957Z
LAST-MODIFIED:20240228T122356Z
UID:18021-1708761600-1708794000@memoshk.com
SUMMARY:「相簿」SC2024Spring Scarlet Agents 同人TCG周邊
DESCRIPTION:
URL:https://memoshk.com/event/e24020103/
CATEGORIES:EVENTS資訊,同人賣場
END:VEVENT
BEGIN:VEVENT
DTSTART;TZID=Asia/Hong_Kong:20240224T080000
DTEND;TZID=Asia/Hong_Kong:20240224T170000
DTSTAMP:20260421T134946
CREATED:20240224T024839Z
LAST-MODIFIED:20240224T052358Z
UID:18015-1708761600-1708794000@memoshk.com
SUMMARY:「相簿」SC2024Spring ぱる家 同人TCG周邊
DESCRIPTION:
URL:https://memoshk.com/event/e24020105/
CATEGORIES:EVENTS資訊,同人賣場
END:VEVENT
BEGIN:VEVENT
DTSTART;TZID=Asia/Hong_Kong:20240203T080000
DTEND;TZID=Asia/Hong_Kong:20240203T170000
DTSTAMP:20260421T134946
CREATED:20240203T035114Z
LAST-MODIFIED:20240203T035114Z
UID:17762-1706947200-1706979600@memoshk.com
SUMMARY:「相簿」サンパン & Cake Rabbits コミケアフター 同人TCG周邊
DESCRIPTION:
URL:https://memoshk.com/event/e24020102/
CATEGORIES:EVENTS資訊,同人賣場
END:VEVENT
BEGIN:VEVENT
DTSTART;TZID=Asia/Hong_Kong:20240201T080000
DTEND;TZID=Asia/Hong_Kong:20240201T170000
DTSTAMP:20260421T134946
CREATED:20240201T124410Z
LAST-MODIFIED:20240228T081654Z
UID:17719-1706774400-1706806800@memoshk.com
SUMMARY:「相簿」SC2024Spring EATOS 同人TCG周邊
DESCRIPTION:
URL:https://memoshk.com/event/e24020101/
CATEGORIES:EVENTS資訊,同人賣場
END:VEVENT
BEGIN:VEVENT
DTSTART;TZID=Asia/Hong_Kong:20231226T080000
DTEND;TZID=Asia/Hong_Kong:20231226T170000
DTSTAMP:20260421T134946
CREATED:20231226T142512Z
LAST-MODIFIED:20231226T142522Z
UID:17455-1703577600-1703610000@memoshk.com
SUMMARY:「相簿」C103 ぴらるーく 同人TCG周邊 卡套 卡盒 Playmat
DESCRIPTION:
URL:https://memoshk.com/event/e23121215/
CATEGORIES:EVENTS資訊,同人賣場
END:VEVENT
BEGIN:VEVENT
DTSTART;TZID=Asia/Hong_Kong:20231225T080000
DTEND;TZID=Asia/Hong_Kong:20231225T170000
DTSTAMP:20260421T134946
CREATED:20231225T074948Z
LAST-MODIFIED:20231225T074948Z
UID:17438-1703491200-1703523600@memoshk.com
SUMMARY:「相簿」C103 ESSENTIA & Yan-Yam 同人TCG周邊 卡套 卡盒 Playmat
DESCRIPTION:
URL:https://memoshk.com/event/e23121214/
CATEGORIES:EVENTS資訊,同人賣場
END:VEVENT
BEGIN:VEVENT
DTSTART;TZID=Asia/Hong_Kong:20231225T080000
DTEND;TZID=Asia/Hong_Kong:20231225T170000
DTSTAMP:20260421T134946
CREATED:20231225T074901Z
LAST-MODIFIED:20231225T074901Z
UID:17434-1703491200-1703523600@memoshk.com
SUMMARY:「相簿」C103 しゃあぷぺんそぅ 同人TCG周邊 卡套 卡盒 Playmat
DESCRIPTION:
URL:https://memoshk.com/event/e23121213/
CATEGORIES:EVENTS資訊,同人賣場
END:VEVENT
BEGIN:VEVENT
DTSTART;TZID=Asia/Hong_Kong:20231223T080000
DTEND;TZID=Asia/Hong_Kong:20231223T170000
DTSTAMP:20260421T134946
CREATED:20231223T082748Z
LAST-MODIFIED:20231223T134021Z
UID:17345-1703318400-1703350800@memoshk.com
SUMMARY:「相簿」C103 路地裏同盟 同人TCG周邊 卡套 卡盒 Playmat
DESCRIPTION:
URL:https://memoshk.com/event/e23121212/
CATEGORIES:EVENTS資訊,同人賣場
END:VEVENT
BEGIN:VEVENT
DTSTART;TZID=Asia/Hong_Kong:20231221T080000
DTEND;TZID=Asia/Hong_Kong:20231221T170000
DTSTAMP:20260421T134946
CREATED:20231221T122525Z
LAST-MODIFIED:20231227T140506Z
UID:17223-1703145600-1703178000@memoshk.com
SUMMARY:「相簿」C103 クラスター & フレシア 同人TCG周邊 卡套 卡盒 Playmat
DESCRIPTION:
URL:https://memoshk.com/event/e23121211/
CATEGORIES:EVENTS資訊,同人賣場
END:VEVENT
BEGIN:VEVENT
DTSTART;TZID=Asia/Hong_Kong:20231221T080000
DTEND;TZID=Asia/Hong_Kong:20231221T170000
DTSTAMP:20260421T134946
CREATED:20231221T122355Z
LAST-MODIFIED:20231227T124704Z
UID:17213-1703145600-1703178000@memoshk.com
SUMMARY:「相簿」C103 サンパン & Cake Rabbits 同人TCG周邊 卡套 卡盒 Playmat
DESCRIPTION:
URL:https://memoshk.com/event/e23121210/
CATEGORIES:EVENTS資訊,同人賣場
END:VEVENT
BEGIN:VEVENT
DTSTART;TZID=Asia/Hong_Kong:20231221T080000
DTEND;TZID=Asia/Hong_Kong:20231221T170000
DTSTAMP:20260421T134946
CREATED:20231221T122226Z
LAST-MODIFIED:20231226T135701Z
UID:17179-1703145600-1703178000@memoshk.com
SUMMARY:「相簿」C103 白詰草 同人TCG周邊 卡套 卡盒 Playmat
DESCRIPTION:
URL:https://memoshk.com/event/e23121209/
CATEGORIES:EVENTS資訊,同人賣場
END:VEVENT
END:VCALENDAR