BEGIN:VCALENDAR
VERSION:2.0
PRODID:-//MemosHK - ECPv6.15.15//NONSGML v1.0//EN
CALSCALE:GREGORIAN
METHOD:PUBLISH
X-ORIGINAL-URL:https://memoshk.com
X-WR-CALDESC:MemosHK的活动
REFRESH-INTERVAL;VALUE=DURATION:PT1H
X-Robots-Tag:noindex
X-PUBLISHED-TTL:PT1H
BEGIN:VTIMEZONE
TZID:Asia/Hong_Kong
BEGIN:STANDARD
TZOFFSETFROM:+0800
TZOFFSETTO:+0800
TZNAME:HKT
DTSTART:20240101T000000
END:STANDARD
END:VTIMEZONE
BEGIN:VEVENT
DTSTART;TZID=Asia/Hong_Kong:20250210T080000
DTEND;TZID=Asia/Hong_Kong:20250210T170000
DTSTAMP:20260420T023254
CREATED:20250210T073734Z
LAST-MODIFIED:20250210T073734Z
UID:23092-1739174400-1739206800@memoshk.com
SUMMARY:「相簿」 SC2025Winter EATOS 同人TCG周邊
DESCRIPTION:
URL:https://memoshk.com/event/s25021001/
CATEGORIES:EVENTS資訊,同人賣場
ATTACH;FMTTYPE=image/jpeg:https://memoshk.com/wp-content/uploads/2025/02/001-2-scaled.jpg
END:VEVENT
BEGIN:VEVENT
DTSTART;TZID=Asia/Hong_Kong:20250214T080000
DTEND;TZID=Asia/Hong_Kong:20250214T170000
DTSTAMP:20260420T023254
CREATED:20250214T050809Z
LAST-MODIFIED:20250214T055931Z
UID:23120-1739520000-1739552400@memoshk.com
SUMMARY:「相簿」 SC2025Winter ほしいろ 同人TCG周邊
DESCRIPTION:  
URL:https://memoshk.com/event/s25021002/
CATEGORIES:EVENTS資訊,同人賣場
ATTACH;FMTTYPE=image/jpeg:https://memoshk.com/wp-content/uploads/2025/02/002-2-1-scaled.jpg
END:VEVENT
BEGIN:VEVENT
DTSTART;TZID=Asia/Hong_Kong:20250214T080000
DTEND;TZID=Asia/Hong_Kong:20250214T170000
DTSTAMP:20260420T023254
CREATED:20250214T051146Z
LAST-MODIFIED:20250219T103637Z
UID:23141-1739520000-1739552400@memoshk.com
SUMMARY:「相簿」 SC2025Winter 混沌の女神様 同人TCG周邊
DESCRIPTION:
URL:https://memoshk.com/event/s25021003/
CATEGORIES:EVENTS資訊,同人賣場
ATTACH;FMTTYPE=image/jpeg:https://memoshk.com/wp-content/uploads/2025/02/007.jpg
END:VEVENT
BEGIN:VEVENT
DTSTART;TZID=Asia/Hong_Kong:20250216T080000
DTEND;TZID=Asia/Hong_Kong:20250216T170000
DTSTAMP:20260420T023254
CREATED:20250216T115413Z
LAST-MODIFIED:20250216T120546Z
UID:23188-1739692800-1739725200@memoshk.com
SUMMARY:「相簿」 SC2025Winter ミッドナイトブルー 同人TCG周邊
DESCRIPTION:
URL:https://memoshk.com/event/s25021004/
CATEGORIES:EVENTS資訊,同人賣場
ATTACH;FMTTYPE=image/jpeg:https://memoshk.com/wp-content/uploads/2025/02/005-2-scaled.jpg
END:VEVENT
BEGIN:VEVENT
DTSTART;TZID=Asia/Hong_Kong:20250218T080000
DTEND;TZID=Asia/Hong_Kong:20250218T170000
DTSTAMP:20260420T023254
CREATED:20250217T162827Z
LAST-MODIFIED:20250217T162839Z
UID:23226-1739865600-1739898000@memoshk.com
SUMMARY:「相簿」 SC2025Winter ぱる家 同人TCG周邊
DESCRIPTION:
URL:https://memoshk.com/event/s25021005/
CATEGORIES:EVENTS資訊,同人賣場
ATTACH;FMTTYPE=image/jpeg:https://memoshk.com/wp-content/uploads/2025/02/Gj-ANvqaUAAfq_i.jpg
END:VEVENT
BEGIN:VEVENT
DTSTART;TZID=Asia/Hong_Kong:20250218T080000
DTEND;TZID=Asia/Hong_Kong:20250218T170000
DTSTAMP:20260420T023254
CREATED:20250217T163337Z
LAST-MODIFIED:20250217T163337Z
UID:23234-1739865600-1739898000@memoshk.com
SUMMARY:「相簿」 SC2025Winter 白詰草 同人TCG周邊
DESCRIPTION:
URL:https://memoshk.com/event/s25021006/
CATEGORIES:EVENTS資訊,同人賣場
ATTACH;FMTTYPE=image/jpeg:https://memoshk.com/wp-content/uploads/2025/02/Gj_yDQnbsAA6aX1.jpg
END:VEVENT
BEGIN:VEVENT
DTSTART;TZID=Asia/Hong_Kong:20250218T080000
DTEND;TZID=Asia/Hong_Kong:20250218T170000
DTSTAMP:20260420T023254
CREATED:20250217T163549Z
LAST-MODIFIED:20250219T161551Z
UID:23260-1739865600-1739898000@memoshk.com
SUMMARY:「相簿」 SC2025Winter サンパン＆Cake Rabbits 同人TCG周邊
DESCRIPTION:
URL:https://memoshk.com/event/25021007/
CATEGORIES:EVENTS資訊,同人賣場
ATTACH;FMTTYPE=image/jpeg:https://memoshk.com/wp-content/uploads/2025/02/011-scaled.jpg
END:VEVENT
BEGIN:VEVENT
DTSTART;TZID=Asia/Hong_Kong:20250218T080000
DTEND;TZID=Asia/Hong_Kong:20250218T170000
DTSTAMP:20260420T023254
CREATED:20250217T163716Z
LAST-MODIFIED:20250219T142406Z
UID:23288-1739865600-1739898000@memoshk.com
SUMMARY:「相簿」 SC2025Winter Scarlet Agents 同人TCG周邊
DESCRIPTION:
URL:https://memoshk.com/event/s25021008/
CATEGORIES:EVENTS資訊,同人賣場
ATTACH;FMTTYPE=image/jpeg:https://memoshk.com/wp-content/uploads/2025/02/009.jpg
END:VEVENT
END:VCALENDAR